View In:
ArcGIS JavaScript
ArcGIS Enterprise Map Viewer
ArcGIS Earth
Service Description: Dates of Images
Post-Event: 5/17/2026
Summary
Skysat is a high-resolution satellite constellation operated by Planet and allows for multiple viewing opportunities of any location on Earth daily. Skysat collects 4-band imagery which allows for multiple derived products to be produced.
The True Color RGB composite provides a product of how the surface would look to the naked eye from space. The RGB is created using the red, green, and blue channels of the respective instrument.
The Color Infrared composite is created using the near-infrared, red, and green channels. The near-infrared gives the ability to see through thin clouds. Healthy vegetation is shown as red, water is in blue.
Resolution
~1 m
Credits
NASA Disasters Program, Processing from MSFC, Planet. For derived products: “Includes copyrighted material of Skysat. All rights reserved.” This work utilized data made available through the NASA Commercial Satellite Data Acquisition (CSDA) program.
Name: DISASTERS_202605_FIRE_KS/202608_skysat
Description: Dates of Images
Post-Event: 5/17/2026
Summary
Skysat is a high-resolution satellite constellation operated by Planet and allows for multiple viewing opportunities of any location on Earth daily. Skysat collects 4-band imagery which allows for multiple derived products to be produced.
The True Color RGB composite provides a product of how the surface would look to the naked eye from space. The RGB is created using the red, green, and blue channels of the respective instrument.
The Color Infrared composite is created using the near-infrared, red, and green channels. The near-infrared gives the ability to see through thin clouds. Healthy vegetation is shown as red, water is in blue.
Resolution
~1 m
Credits
NASA Disasters Program, Processing from MSFC, Planet. For derived products: “Includes copyrighted material of Skysat. All rights reserved.” This work utilized data made available through the NASA Commercial Satellite Data Acquisition (CSDA) program.
Single Fused Map Cache: false
Extent:
XMin: -1.13332084292E7
YMin: 4437167.269690461
XMax: -1.1095981313311342E7
YMax: 4497181.514799997
Spatial Reference: 102100
(3857)
LatestVCSWkid(0)
Initial Extent:
XMin: -1.13332084292E7
YMin: 4437167.269690461
XMax: -1.1095981313311342E7
YMax: 4497181.514799997
Spatial Reference: 102100
(3857)
LatestVCSWkid(0)
Full Extent:
XMin: -1.13332084292E7
YMin: 4437167.269690461
XMax: -1.1095981313311342E7
YMax: 4497181.514799997
Spatial Reference: 102100
(3857)
LatestVCSWkid(0)
Pixel Size X: 0.5801280339249467
Pixel Size Y: 0.5801280339249468
Band Count: 3
Pixel Type: U8
RasterFunction Infos: {"rasterFunctionInfos": [{
"help": "",
"name": "None",
"description": ""
}]}
Mensuration Capabilities: Basic
Inspection Capabilities:
Has Histograms: false
Has Colormap: false
Has Multi Dimensions : false
Rendering Rule:
Min Scale: 0
Max Scale: 0
Copyright Text: NASA Disasters Program, Processing from MSFC, Planet. For derived products: “Includes copyrighted material of Skysat. All rights reserved.” This work utilized data made available through the NASA Commercial Satellite Data Acquisition (CSDA) program.
Service Data Type: esriImageServiceDataTypeRGB
Min Values: N/A
Max Values: N/A
Mean Values: N/A
Standard Deviation Values: N/A
Object ID Field: objectid
Fields:
-
objectid
(
alias: OBJECTID
, type: esriFieldTypeOID
)
-
name
(
length: 200
, alias: Name
, type: esriFieldTypeString
)
-
minps
(
alias: MinPS
, type: esriFieldTypeDouble
)
-
maxps
(
alias: MaxPS
, type: esriFieldTypeDouble
)
-
lowps
(
alias: LowPS
, type: esriFieldTypeDouble
)
-
highps
(
alias: HighPS
, type: esriFieldTypeDouble
)
-
category
(
alias: Category
, type: esriFieldTypeInteger
, Coded Values:
[0: Unknown]
, [1: Primary]
, [2: Overview]
, ...6 more...
)
-
tag
(
length: 100
, alias: Tag
, type: esriFieldTypeString
)
-
groupname
(
length: 100
, alias: GroupName
, type: esriFieldTypeString
)
-
productname
(
length: 100
, alias: ProductName
, type: esriFieldTypeString
)
-
centerx
(
alias: CenterX
, type: esriFieldTypeDouble
)
-
centery
(
alias: CenterY
, type: esriFieldTypeDouble
)
-
zorder
(
alias: ZOrder
, type: esriFieldTypeInteger
)
-
date
(
alias: Date
, type: esriFieldTypeDateOnly
)
-
shape
(
alias: Shape
, type: esriFieldTypeGeometry
)
Default Mosaic Method: Northwest
Allowed Mosaic Methods: NorthWest,Center,LockRaster,ByAttribute,Nadir,Viewpoint,Seamline,None
SortField:
SortValue: N/A
Mosaic Operator: First
Default Compression Quality: 75
Default Resampling Method: Bilinear
Max Record Count: 1000
Max Image Height: 4100
Max Image Width: 15000
Max Download Image Count: 20
Max Mosaic Image Count: 20
Allow Raster Function: true
Allow Copy: true
Allow Analysis: true
Allow Compute TiePoints: false
Supports Statistics: true
Supports Advanced Queries: true
Use StandardizedQueries: true
Raster Type Infos:
Name: Raster Dataset
Description: Supports all ArcGIS Raster Datasets
Help:
Has Raster Attribute Table: false
Edit Fields Info: N/A
Ownership Based AccessControl For Rasters: N/A
Child Resources:
Info
Statistics
Key Properties
Legend
Raster Function Infos
Supported Operations:
Export Image
Query
Identify
Measure
Compute Histograms
Compute Statistics Histograms
Get Samples
Compute Class Statistics
Query GPS Info
Find Images
Image to Map
Map to Image
Measure from Image
Image to Map Multiray
Query Boundary
Compute Pixel Location
Compute Angles
Validate
Project