View In:
ArcGIS JavaScript
ArcGIS Enterprise Map Viewer
ArcGIS Earth
Service Description: DISASTERS_202606_EARTHQUAKE_VENEZUELA/202611_sentinel2_buildingDamageLikelihood
Name: DISASTERS_202606_EARTHQUAKE_VENEZUELA/202611_sentinel2_buildingDamageLikelihood
Description:
Single Fused Map Cache: false
Extent:
XMin: -67.13658090548498
YMin: 10.322091772175364
XMax: -66.75389859445006
YMax: 10.63632245856037
Spatial Reference: 4326
(4326)
LatestVCSWkid(0)
Initial Extent:
XMin: -67.13658090548498
YMin: 10.322091772175364
XMax: -66.75389859445006
YMax: 10.63632245856037
Spatial Reference: 4326
(4326)
LatestVCSWkid(0)
Full Extent:
XMin: -67.13658090548498
YMin: 10.322091772175364
XMax: -66.75389859445006
YMax: 10.63632245856037
Spatial Reference: 4326
(4326)
LatestVCSWkid(0)
Pixel Size X: 8.983152841195128E-5
Pixel Size Y: 8.983152841195139E-5
Band Count: 1
Pixel Type: F64
RasterFunction Infos: {"rasterFunctionInfos": [{
"help": "",
"name": "None",
"description": ""
}]}
Mensuration Capabilities: Basic
Inspection Capabilities:
Has Histograms: true
Has Colormap: false
Has Multi Dimensions : false
Rendering Rule:
Min Scale: 0
Max Scale: 0
Copyright Text:
Service Data Type: esriImageServiceDataTypeGeneric
Min Values: -0.94572830796242002
Max Values: 2.8078800097108001
Mean Values: 0.0074520085055208001
Standard Deviation Values: 0.059020843465935002
Object ID Field:
Fields:
None
Default Mosaic Method: Center
Allowed Mosaic Methods:
SortField:
SortValue: N/A
Mosaic Operator: First
Default Compression Quality: 75
Default Resampling Method: Bilinear
Max Record Count: 1000
Max Image Height: 4100
Max Image Width: 15000
Max Download Image Count: null
Max Mosaic Image Count: null
Allow Raster Function: true
Allow Copy: true
Allow Analysis: true
Allow Compute TiePoints: false
Supports Statistics: false
Supports Advanced Queries: false
Use StandardizedQueries: false
Raster Type Infos:
Name: Raster Dataset
Description: Supports all ArcGIS Raster Datasets
Help:
Has Raster Attribute Table: false
Edit Fields Info: N/A
Ownership Based AccessControl For Rasters: N/A
Child Resources:
Info
Histograms
Statistics
Key Properties
Legend
Raster Function Infos
Supported Operations:
Export Image
Identify
Measure
Compute Histograms
Compute Statistics Histograms
Get Samples
Compute Class Statistics
Query Boundary
Compute Pixel Location
Compute Angles
Validate
Project