View In:
ArcGIS JavaScript
ArcGIS Enterprise Map Viewer
ArcGIS Earth
Service Description: 202614_skysat_ndvi
Name: DISASTERS_202607_FIRE_CO/202614_skysat_ndvi
Description: 202614_skysat_ndvi
Single Fused Map Cache: false
Extent:
XMin: -110.10524446833689
YMin: 37.76150213013551
XMax: -104.72008418510696
YMax: 38.267384148804474
Spatial Reference: 4326
(4326)
LatestVCSWkid(0)
Initial Extent:
XMin: -110.10524446833689
YMin: 37.76150213013551
XMax: -104.72008418510696
YMax: 38.267384148804474
Spatial Reference: 4326
(4326)
LatestVCSWkid(0)
Full Extent:
XMin: -110.10524446833689
YMin: 37.76150213013551
XMax: -104.72008418510696
YMax: 38.267384148804474
Spatial Reference: 4326
(4326)
LatestVCSWkid(0)
Pixel Size X: 5.225622042279154E-6
Pixel Size Y: 5.225622042279181E-6
Band Count: 1
Pixel Type: F32
RasterFunction Infos: {"rasterFunctionInfos": [
{
"help": "",
"name": "skysat_ndvi2",
"description": "skysat_ndvi2"
},
{
"help": "",
"name": "operadist_vegAnomMax",
"description": "operadist_vegAnomMax"
},
{
"help": "",
"name": "skysat_ndvi",
"description": "skysat_ndvi"
},
{
"help": "",
"name": "skysat_ndvi2",
"description": "skysat_ndvi2"
},
{
"help": "",
"name": "None",
"description": ""
}
]}
Mensuration Capabilities:
Inspection Capabilities:
Has Histograms: true
Has Colormap: false
Has Multi Dimensions : false
Rendering Rule:
Min Scale: 0
Max Scale: 0
Copyright Text:
Service Data Type: esriImageServiceDataTypeGeneric
Min Values: -0.45076793432235718
Max Values: 0.98475581407546997
Mean Values: 0.28368169466481141
Standard Deviation Values: 0.20945303358096087
Object ID Field: objectid
Fields:
-
objectid
(
alias: OBJECTID
, type: esriFieldTypeOID
)
-
name
(
length: 200
, alias: Name
, type: esriFieldTypeString
)
-
minps
(
alias: MinPS
, type: esriFieldTypeDouble
)
-
maxps
(
alias: MaxPS
, type: esriFieldTypeDouble
)
-
lowps
(
alias: LowPS
, type: esriFieldTypeDouble
)
-
highps
(
alias: HighPS
, type: esriFieldTypeDouble
)
-
category
(
alias: Category
, type: esriFieldTypeInteger
, Coded Values:
[0: Unknown]
, [1: Primary]
, [2: Overview]
, ...6 more...
)
-
tag
(
length: 100
, alias: Tag
, type: esriFieldTypeString
)
-
groupname
(
length: 100
, alias: GroupName
, type: esriFieldTypeString
)
-
productname
(
length: 100
, alias: ProductName
, type: esriFieldTypeString
)
-
centerx
(
alias: CenterX
, type: esriFieldTypeDouble
)
-
centery
(
alias: CenterY
, type: esriFieldTypeDouble
)
-
zorder
(
alias: ZOrder
, type: esriFieldTypeInteger
)
-
shape
(
alias: Shape
, type: esriFieldTypeGeometry
)
Default Mosaic Method: Northwest
Allowed Mosaic Methods: NorthWest,Center,LockRaster,ByAttribute,Nadir,Viewpoint,Seamline,None
SortField:
SortValue: N/A
Mosaic Operator: First
Default Compression Quality: 75
Default Resampling Method: Bilinear
Max Record Count: 1000
Max Image Height: 4100
Max Image Width: 15000
Max Download Image Count: 20
Max Mosaic Image Count: 20
Allow Raster Function: true
Allow Copy: true
Allow Analysis: true
Allow Compute TiePoints: false
Supports Statistics: true
Supports Advanced Queries: true
Use StandardizedQueries: true
Raster Type Infos:
Name: Raster Dataset
Description: Supports all ArcGIS Raster Datasets
Help:
Has Raster Attribute Table: false
Edit Fields Info: N/A
Ownership Based AccessControl For Rasters: N/A
Child Resources:
Info
Histograms
Statistics
Key Properties
Legend
Raster Function Infos
Supported Operations:
Export Image
Query
Identify
Measure
Compute Histograms
Compute Statistics Histograms
Get Samples
Compute Class Statistics
Query GPS Info
Find Images
Image to Map
Map to Image
Measure from Image
Image to Map Multiray
Query Boundary
Compute Pixel Location
Compute Angles
Validate
Project