View In:
ArcGIS JavaScript
ArcGIS Enterprise Map Viewer
ArcGIS Earth
Service Description: Dates of Images:
Post-Event: August 14, 2026
Date of Next Image:
None
Summary:
The True Color RGB composite provides a product of how the surface would look to the naked eye from space. The RGB is created using the red, green, and blue channels of the respective instrument.
Suggested Use:
The True Color RGB provides a product of how the surface would look to the naked eye from space. The True Color RGB is produced using the 3 visible wavelength bands (red, green, and blue) from the respective sensor. Some minor atmospheric corrections have occurred.
Satellite/Sensor:
Airbus Pléiades Neo 4
Resolution:
~1.3 meters
Credits:
NASA, Airbus. For derived products: “Includes copyrighted material of Airbus. All rights reserved.” This work utilized data made available through the NASA Commercial Satellite Data Acquisition (CSDA) program.
Esri REST Endpoint:
See layers below.
Name: DISASTERS_202608_FIRE_WA/202619_pleiades
Description: Dates of Images:
Post-Event: August 14, 2026
Date of Next Image:
None
Summary:
The True Color RGB composite provides a product of how the surface would look to the naked eye from space. The RGB is created using the red, green, and blue channels of the respective instrument.
Suggested Use:
The True Color RGB provides a product of how the surface would look to the naked eye from space. The True Color RGB is produced using the 3 visible wavelength bands (red, green, and blue) from the respective sensor. Some minor atmospheric corrections have occurred.
Satellite/Sensor:
Airbus Pléiades Neo 4
Resolution:
~1.3 meters
Credits:
NASA, Airbus. For derived products: “Includes copyrighted material of Airbus. All rights reserved.” This work utilized data made available through the NASA Commercial Satellite Data Acquisition (CSDA) program.
Esri REST Endpoint:
See layers below.
Single Fused Map Cache: false
Extent:
XMin: -1.30929021153E7
YMin: 6056353.469261698
XMax: -1.3072806029879272E7
YMax: 6098458.809299998
Spatial Reference: 102100
(3857)
LatestVCSWkid(0)
Initial Extent:
XMin: -1.30929021153E7
YMin: 6056353.469261698
XMax: -1.3072806029879272E7
YMax: 6098458.809299998
Spatial Reference: 102100
(3857)
LatestVCSWkid(0)
Full Extent:
XMin: -1.30929021153E7
YMin: 6056353.469261698
XMax: -1.3072806029879272E7
YMax: 6098458.809299998
Spatial Reference: 102100
(3857)
LatestVCSWkid(0)
Pixel Size X: 1.3014756441116333
Pixel Size Y: 1.3014756441116333
Band Count: 3
Pixel Type: U8
RasterFunction Infos: {"rasterFunctionInfos": [{
"help": "",
"name": "None",
"description": ""
}]}
Mensuration Capabilities: None
Inspection Capabilities:
Has Histograms: true
Has Colormap: false
Has Multi Dimensions : false
Rendering Rule:
Min Scale: 0
Max Scale: 0
Copyright Text: NASA Disasters Program, Airbus. For derived products: “Includes copyrighted material of Skysat. All rights reserved.” This work utilized data made available through the NASA Commercial Satellite Data Acquisition (CSDA) program.
Service Data Type: esriImageServiceDataTypeRGB
Min Values: 0, 0, 0
Max Values: 255, 255, 255
Mean Values: 76.446877116504652, 66.116747470039769, 51.151099571419678
Standard Deviation Values: 54.719556086849117, 49.934310759951806, 48.150370630383513
Object ID Field: objectid
Fields:
-
objectid
(
alias: OBJECTID
, type: esriFieldTypeOID
)
-
name
(
length: 200
, alias: Name
, type: esriFieldTypeString
)
-
minps
(
alias: MinPS
, type: esriFieldTypeDouble
)
-
maxps
(
alias: MaxPS
, type: esriFieldTypeDouble
)
-
lowps
(
alias: LowPS
, type: esriFieldTypeDouble
)
-
highps
(
alias: HighPS
, type: esriFieldTypeDouble
)
-
category
(
alias: Category
, type: esriFieldTypeInteger
, Coded Values:
[0: Unknown]
, [1: Primary]
, [2: Overview]
, ...6 more...
)
-
tag
(
length: 100
, alias: Tag
, type: esriFieldTypeString
)
-
groupname
(
length: 100
, alias: GroupName
, type: esriFieldTypeString
)
-
productname
(
length: 100
, alias: ProductName
, type: esriFieldTypeString
)
-
centerx
(
alias: CenterX
, type: esriFieldTypeDouble
)
-
centery
(
alias: CenterY
, type: esriFieldTypeDouble
)
-
zorder
(
alias: ZOrder
, type: esriFieldTypeInteger
)
-
shape
(
alias: Shape
, type: esriFieldTypeGeometry
)
Default Mosaic Method: Northwest
Allowed Mosaic Methods: NorthWest,Center,LockRaster,ByAttribute,Nadir,Viewpoint,Seamline,None
SortField:
SortValue: N/A
Mosaic Operator: First
Default Compression Quality: 75
Default Resampling Method: Bilinear
Max Record Count: 1000
Max Image Height: 4100
Max Image Width: 15000
Max Download Image Count: 20
Max Mosaic Image Count: 20
Allow Raster Function: true
Allow Copy: true
Allow Analysis: true
Allow Compute TiePoints: false
Supports Statistics: true
Supports Advanced Queries: true
Use StandardizedQueries: true
Raster Type Infos:
Name: Raster Dataset
Description: Supports all ArcGIS Raster Datasets
Help:
Has Raster Attribute Table: false
Edit Fields Info: N/A
Ownership Based AccessControl For Rasters: N/A
Child Resources:
Info
Histograms
Statistics
Key Properties
Legend
Raster Function Infos
Supported Operations:
Export Image
Query
Identify
Compute Histograms
Compute Statistics Histograms
Get Samples
Compute Class Statistics
Query GPS Info
Find Images
Image to Map
Map to Image
Measure from Image
Image to Map Multiray
Query Boundary
Compute Pixel Location
Compute Angles
Validate
Project