View In:
ArcGIS JavaScript
ArcGIS Enterprise Map Viewer
ArcGIS Earth
Service Description: DISASTERS_202608_FLOOD_IN/202623_NDVIbinaryChange
Name: DISASTERS_202608_FLOOD_IN/202623_NDVIbinaryChange
Description:
Single Fused Map Cache: false
Extent:
XMin: 600000.0
YMin: 4290240.0
XMax: 709800.0
YMax: 4500000.0
Spatial Reference: 32616
(32616)
LatestVCSWkid(0)
Initial Extent:
XMin: 600000.0
YMin: 4290240.0
XMax: 709800.0
YMax: 4500000.0
Spatial Reference: 32616
(32616)
LatestVCSWkid(0)
Full Extent:
XMin: 600000.0
YMin: 4290240.0
XMax: 709800.0
YMax: 4500000.0
Spatial Reference: 32616
(32616)
LatestVCSWkid(0)
Pixel Size X: 10.0
Pixel Size Y: 10.0
Band Count: 1
Pixel Type: U8
RasterFunction Infos: {"rasterFunctionInfos": [{
"help": "",
"name": "None",
"description": ""
}]}
Mensuration Capabilities: Basic
Inspection Capabilities:
Has Histograms: true
Has Colormap: false
Has Multi Dimensions : false
Rendering Rule:
Min Scale: 0
Max Scale: 0
Copyright Text:
Service Data Type: esriImageServiceDataTypeGeneric
Min Values: 0
Max Values: 1
Mean Values: 0.12373063199761353
Standard Deviation Values: 0.32927399417163716
Object ID Field:
Fields:
None
Default Mosaic Method: Center
Allowed Mosaic Methods:
SortField:
SortValue: N/A
Mosaic Operator: First
Default Compression Quality: 75
Default Resampling Method: Bilinear
Max Record Count: null
Max Image Height: 4100
Max Image Width: 15000
Max Download Image Count: null
Max Mosaic Image Count: null
Allow Raster Function: true
Allow Copy: true
Allow Analysis: true
Allow Compute TiePoints: false
Supports Statistics: false
Supports Advanced Queries: false
Use StandardizedQueries: false
Raster Type Infos:
Name: Raster Dataset
Description: Supports all ArcGIS Raster Datasets
Help:
Has Raster Attribute Table: true
Edit Fields Info: N/A
Ownership Based AccessControl For Rasters: N/A
Child Resources:
Info
Raster Attribute Table
Histograms
Statistics
Key Properties
Legend
Raster Function Infos
Supported Operations:
Export Image
Identify
Measure
Compute Histograms
Compute Statistics Histograms
Get Samples
Compute Class Statistics
Query Boundary
Compute Pixel Location
Compute Angles
Validate
Project