View In:
ArcGIS JavaScript
ArcGIS Enterprise Map Viewer
ArcGIS Earth
Service Description: Dates of Images:
4/28/2024, 4/29/2024, 4/30/2024, 5/1/2024, 5/2/2024, 5/5/2024, 5/6/2024
Summary:
LHASA was created at Goddard Space Flight Center to identify the potential for rainfall-triggered landslides in real time. LHASA version 2 adopts machine learning to estimate the probability of landslide occurrence at a 30-arcsecond (~1 km) daily resolution. In addition, it estimates the potential exposure of human population and roads to landslide hazard and maps the basins likely to experience post-fire debris flows.
Suggested Use:
The global landslide nowcast shows where landslide hazard is highest on a given date.
Resolution:
~1km
Credits:
Please cite: Stanley T. A., J. R. Sutton, R. S. Vershel, P. M. Amatya. 2025. "Better Satellite Precipitation Algorithms Slightly Improved Landslide Hazard Assessment." Journal of Applied Meteorology and Climatology 64 (10): 1379-1394 10.1175/jamc-d-25-0021.1
Esri REST Endpoint:
See URL on the right side of the page.
Name: DISASTERS_EX2602_202405_FLOOD_BRAZIL/EX2602_lhasa
Description: Dates of Images:
4/28/2024, 4/29/2024, 4/30/2024, 5/1/2024, 5/2/2024, 5/5/2024, 5/6/2024
Summary:
LHASA was created at Goddard Space Flight Center to identify the potential for rainfall-triggered landslides in real time. LHASA version 2 adopts machine learning to estimate the probability of landslide occurrence at a 30-arcsecond (~1 km) daily resolution. In addition, it estimates the potential exposure of human population and roads to landslide hazard and maps the basins likely to experience post-fire debris flows.
Suggested Use:
The global landslide nowcast shows where landslide hazard is highest on a given date.
Resolution:
~1km
Credits:
Please cite: Stanley T. A., J. R. Sutton, R. S. Vershel, P. M. Amatya. 2025. "Better Satellite Precipitation Algorithms Slightly Improved Landslide Hazard Assessment." Journal of Applied Meteorology and Climatology 64 (10): 1379-1394 10.1175/jamc-d-25-0021.1
Esri REST Endpoint:
See URL on the right side of the page.
Single Fused Map Cache: false
Extent:
XMin: -2.00375070672E7
YMin: -8399976.563275766
XMax: 1.275589231401682
YMax: 6.679499998688698
Spatial Reference: 102100
(3857)
LatestVCSWkid(0)
Initial Extent:
XMin: -2.00375070672E7
YMin: -8399976.563275766
XMax: 1.275589231401682
YMax: 6.679499998688698
Spatial Reference: 102100
(3857)
LatestVCSWkid(0)
Full Extent:
XMin: -2.00375070672E7
YMin: -8399976.563275766
XMax: 1.275589231401682
YMax: 6.679499998688698
Spatial Reference: 102100
(3857)
LatestVCSWkid(0)
Pixel Size X: 927.6624232772793
Pixel Size Y: 927.6624232772793
Band Count: 1
Pixel Type: F64
RasterFunction Infos: {"rasterFunctionInfos": [
{
"help": "",
"name": "LHASA_RFT_fromMosaic",
"description": "LHASA_RFT_fromMosaic"
},
{
"help": "",
"name": "None",
"description": "Make a Raster or Raster Dataset into a Function Raster Dataset."
}
]}
Mensuration Capabilities: None
Inspection Capabilities:
Has Histograms: true
Has Colormap: false
Has Multi Dimensions : false
Rendering Rule:
Min Scale: 0
Max Scale: 0
Copyright Text: USGS/GSFC (2025), Stanley T. A., J. R. Sutton, R. S. Vershel, P. M. Amatya
Service Data Type: esriImageServiceDataTypeGeneric
Min Values: 0.000040813027948172534
Max Values: 0.68052626711649833
Mean Values: 0.0068932638780423768
Standard Deviation Values: 0.021241391462464128
Object ID Field: objectid
Fields:
-
objectid
(
alias: OBJECTID
, type: esriFieldTypeOID
)
-
name
(
length: 200
, alias: Name
, type: esriFieldTypeString
)
-
minps
(
alias: MinPS
, type: esriFieldTypeDouble
)
-
maxps
(
alias: MaxPS
, type: esriFieldTypeDouble
)
-
lowps
(
alias: LowPS
, type: esriFieldTypeDouble
)
-
highps
(
alias: HighPS
, type: esriFieldTypeDouble
)
-
category
(
alias: Category
, type: esriFieldTypeInteger
, Coded Values:
[0: Unknown]
, [1: Primary]
, [2: Overview]
, ...6 more...
)
-
tag
(
length: 100
, alias: Tag
, type: esriFieldTypeString
)
-
groupname
(
length: 100
, alias: GroupName
, type: esriFieldTypeString
)
-
productname
(
length: 100
, alias: ProductName
, type: esriFieldTypeString
)
-
centerx
(
alias: CenterX
, type: esriFieldTypeDouble
)
-
centery
(
alias: CenterY
, type: esriFieldTypeDouble
)
-
zorder
(
alias: ZOrder
, type: esriFieldTypeInteger
)
-
date
(
alias: Date
, type: esriFieldTypeDateOnly
)
-
shape
(
alias: Shape
, type: esriFieldTypeGeometry
)
Default Mosaic Method: Northwest
Allowed Mosaic Methods: NorthWest,Center,LockRaster,ByAttribute,Nadir,Viewpoint,Seamline,None
SortField:
SortValue: N/A
Mosaic Operator: First
Default Compression Quality: 75
Default Resampling Method: Bilinear
Max Record Count: 1000
Max Image Height: 4100
Max Image Width: 15000
Max Download Image Count: 20
Max Mosaic Image Count: 20
Allow Raster Function: true
Allow Copy: true
Allow Analysis: true
Allow Compute TiePoints: false
Supports Statistics: true
Supports Advanced Queries: true
Use StandardizedQueries: true
Raster Type Infos:
Name: Raster Dataset
Description: Supports all ArcGIS Raster Datasets
Help:
Has Raster Attribute Table: false
Edit Fields Info: N/A
Ownership Based AccessControl For Rasters: N/A
Child Resources:
Info
Histograms
Statistics
Key Properties
Legend
Raster Function Infos
Supported Operations:
Export Image
Query
Identify
Compute Histograms
Compute Statistics Histograms
Get Samples
Compute Class Statistics
Query GPS Info
Find Images
Image to Map
Map to Image
Measure from Image
Image to Map Multiray
Query Boundary
Compute Pixel Location
Compute Angles
Validate
Project