View In:
ArcGIS JavaScript
ArcGIS Enterprise Map Viewer
ArcGIS Earth
Service Description: Dates of Images:
Post-Event: May 24, 2022
Pre-Event: May 16, 2022
Date of Next Image:
None
Summary:
The dynamically generated Normalized Difference Vegetation Index (NDVI) layer is an index for quantifying green vegetation. It reflects the state of vegetation health based on how vegetation reflects light at certain wavelengths.
Suggested Use:
Dark green colors are areas with a lot of green leaf growth which indicates the presence of chlorophyll. Chlorophyll reflects more infrared light and less visible light. Areas with some green leaf growth are in light greens, and areas with little to no vegetation growth are even lighter greens.
Satellite/Sensor:
MultiSpectral Instrument (MSI) on European Space Agency's (ESA) Copernicus Sentinel-2A/2B satellites
Resolution:
10 meters
Credits:
NASA/MSFC, USGS, ESA Copernicus
REST Endpoint:
See URL on the right.
WMS Endpoint:
https://gis.earthdata.nasa.gov/portal/services/DISASTERS_EX2601_201809_HURRICANE_FLORENCE/ex2601_sentinel2_ndvi/ImageServer/WMSServer
Name: DISASTERS_EX2603_202205_FLOOD_MN/ex2603_landsat_ndvi
Description: Dates of Images:
Post-Event: May 24, 2022
Pre-Event: May 16, 2022
Date of Next Image:
None
Summary:
The dynamically generated Normalized Difference Vegetation Index (NDVI) layer is an index for quantifying green vegetation. It reflects the state of vegetation health based on how vegetation reflects light at certain wavelengths.
Suggested Use:
Dark green colors are areas with a lot of green leaf growth which indicates the presence of chlorophyll. Chlorophyll reflects more infrared light and less visible light. Areas with some green leaf growth are in light greens, and areas with little to no vegetation growth are even lighter greens.
Satellite/Sensor:
MultiSpectral Instrument (MSI) on European Space Agency's (ESA) Copernicus Sentinel-2A/2B satellites
Resolution:
10 meters
Credits:
NASA/MSFC, USGS, ESA Copernicus
REST Endpoint:
See URL on the right.
WMS Endpoint:
https://gis.earthdata.nasa.gov/portal/services/DISASTERS_EX2601_201809_HURRICANE_FLORENCE/ex2601_sentinel2_ndvi/ImageServer/WMSServer
Single Fused Map Cache: false
Extent:
XMin: -1.11056498309E7
YMin: 6068436.612915916
XMax: -1.0735832342507962E7
YMax: 6434577.373999998
Spatial Reference: 102100
(3857)
LatestVCSWkid(0)
Initial Extent:
XMin: -1.11056498309E7
YMin: 6068436.612915916
XMax: -1.0735832342507962E7
YMax: 6434577.373999998
Spatial Reference: 102100
(3857)
LatestVCSWkid(0)
Full Extent:
XMin: -1.11056498309E7
YMin: 6068436.612915916
XMax: -1.0735832342507962E7
YMax: 6434577.373999998
Spatial Reference: 102100
(3857)
LatestVCSWkid(0)
Pixel Size X: 38.29924279122186
Pixel Size Y: 38.29924279122193
Band Count: 1
Pixel Type: F32
RasterFunction Infos: {"rasterFunctionInfos": [
{
"help": "",
"name": "ndvi_sinlaku",
"description": "1 green 0 white"
},
{
"help": "",
"name": "None",
"description": "Make a Raster or Raster Dataset into a Function Raster Dataset."
}
]}
Mensuration Capabilities: None
Inspection Capabilities:
Has Histograms: true
Has Colormap: false
Has Multi Dimensions : false
Rendering Rule:
Min Scale: 0
Max Scale: 0
Copyright Text: NASA/MSFC, USGS, ESA Copernicus, NWS, NOAA
Service Data Type: esriImageServiceDataTypeGeneric
Min Values: -0.91940295696258545
Max Values: 0.98313772678375244
Mean Values: 0.274735133858032
Standard Deviation Values: 0.13317186001081155
Object ID Field: objectid
Fields:
-
objectid
(
alias: OBJECTID
, type: esriFieldTypeOID
)
-
name
(
length: 200
, alias: Name
, type: esriFieldTypeString
)
-
minps
(
alias: MinPS
, type: esriFieldTypeDouble
)
-
maxps
(
alias: MaxPS
, type: esriFieldTypeDouble
)
-
lowps
(
alias: LowPS
, type: esriFieldTypeDouble
)
-
highps
(
alias: HighPS
, type: esriFieldTypeDouble
)
-
category
(
alias: Category
, type: esriFieldTypeInteger
, Coded Values:
[0: Unknown]
, [1: Primary]
, [2: Overview]
, ...6 more...
)
-
tag
(
length: 100
, alias: Tag
, type: esriFieldTypeString
)
-
groupname
(
length: 100
, alias: GroupName
, type: esriFieldTypeString
)
-
productname
(
length: 100
, alias: ProductName
, type: esriFieldTypeString
)
-
centerx
(
alias: CenterX
, type: esriFieldTypeDouble
)
-
centery
(
alias: CenterY
, type: esriFieldTypeDouble
)
-
zorder
(
alias: ZOrder
, type: esriFieldTypeInteger
)
-
date
(
alias: Date
, type: esriFieldTypeDateOnly
)
-
shape
(
alias: Shape
, type: esriFieldTypeGeometry
)
Default Mosaic Method: Northwest
Allowed Mosaic Methods: NorthWest,Center,LockRaster,ByAttribute,Nadir,Viewpoint,Seamline,None
SortField:
SortValue: N/A
Mosaic Operator: First
Default Compression Quality: 75
Default Resampling Method: Bilinear
Max Record Count: 1000
Max Image Height: 4100
Max Image Width: 15000
Max Download Image Count: 20
Max Mosaic Image Count: 20
Allow Raster Function: true
Allow Copy: true
Allow Analysis: true
Allow Compute TiePoints: false
Supports Statistics: true
Supports Advanced Queries: true
Use StandardizedQueries: true
Raster Type Infos:
Name: Raster Dataset
Description: Supports all ArcGIS Raster Datasets
Help:
Has Raster Attribute Table: false
Edit Fields Info: N/A
Ownership Based AccessControl For Rasters: N/A
Child Resources:
Info
Histograms
Statistics
Key Properties
Legend
Raster Function Infos
Supported Operations:
Export Image
Query
Identify
Compute Histograms
Compute Statistics Histograms
Get Samples
Compute Class Statistics
Query GPS Info
Find Images
Image to Map
Map to Image
Measure from Image
Image to Map Multiray
Query Boundary
Compute Pixel Location
Compute Angles
Validate
Project