View In:
ArcGIS JavaScript
ArcGIS Enterprise Map Viewer
ArcGIS Earth
Service Description: Global Seasonal Sentinel-1 Interferometric Coherence and Backscatter: mean amplitude of radiometrically terrain-corrected gamma-0 backscatter (AMP) values for June/July/August in VV polarization. Pixel values in source rasters are stored as digital numbers (DN). Processing templates are included with the service to provide the power and dB values along with the original DN values. The power value is calculated using the formula DN ^ 2 / 199526231, and the dB value is calculated using the formula 20 x log10(DN) - 83.
The source rasters referenced in this service are available on the Registry of Open Data on AWS: https://registry.opendata.aws/ebd-sentinel-1-global-coherence-backscatter/
Name: GSSICB/GSSICB_Mean_VV_Backscatter_Jun_Jul_Aug
Description: Global Seasonal Sentinel-1 Interferometric Coherence and Backscatter: mean amplitude of radiometrically terrain-corrected gamma-0 backscatter (AMP) values for June/July/August in VV polarization. Pixel values in source rasters are stored as digital numbers (DN). Processing templates are included with the service to provide the power and dB values along with the original DN values. The power value is calculated using the formula DN ^ 2 / 199526231, and the dB value is calculated using the formula 20 x log10(DN) - 83.
The source rasters referenced in this service are available on the Registry of Open Data on AWS: https://registry.opendata.aws/ebd-sentinel-1-global-coherence-backscatter/
Single Fused Map Cache: false
Extent:
XMin: -2.0037507067161847E7
YMin: -7967389.6907754615
XMax: 2.0037507842788246E7
YMax: 1.6213801067583963E7
Spatial Reference: 102100
(3857)
LatestVCSWkid(0)
Initial Extent:
XMin: -2.0037507067161847E7
YMin: -7967389.6907754615
XMax: 2.0037507842788246E7
YMax: 1.6213801067583963E7
Spatial Reference: 102100
(3857)
LatestVCSWkid(0)
Full Extent:
XMin: -2.0037507067161847E7
YMin: -7967389.6907754615
XMax: 2.0037507842788246E7
YMax: 1.6213801067583963E7
Spatial Reference: 102100
(3857)
LatestVCSWkid(0)
Pixel Size X: 92.76623821747707
Pixel Size Y: 92.76624195666298
Band Count: 1
Pixel Type: U16
RasterFunction Infos: {"rasterFunctionInfos": [{
"help": "",
"name": "None",
"description": ""
}]}
Mensuration Capabilities: Basic
Inspection Capabilities:
Has Histograms: false
Has Colormap: false
Has Multi Dimensions : false
Rendering Rule:
Min Scale: 0
Max Scale: 0
Copyright Text: Global Seasonal Sentinel-1 Interferometric Coherence and Backscatter Data Set was accessed on 11 November 2022 from https://registry.opendata.aws/ebd-sentinel-1-global-coherence-backscatter.
Service Data Type: esriImageServiceDataTypeGeneric
Min Values: N/A
Max Values: N/A
Mean Values: N/A
Standard Deviation Values: N/A
Object ID Field: objectid
Fields:
-
objectid
(
alias: OBJECTID
, type: esriFieldTypeOID
)
-
name
(
length: 200
, alias: Name
, type: esriFieldTypeString
)
-
minps
(
alias: MinPS
, type: esriFieldTypeDouble
)
-
maxps
(
alias: MaxPS
, type: esriFieldTypeDouble
)
-
lowps
(
alias: LowPS
, type: esriFieldTypeDouble
)
-
highps
(
alias: HighPS
, type: esriFieldTypeDouble
)
-
category
(
alias: Category
, type: esriFieldTypeInteger
, Coded Values:
[0: Unknown]
, [1: Primary]
, [2: Overview]
, ...6 more...
)
-
tag
(
length: 100
, alias: Tag
, type: esriFieldTypeString
)
-
groupname
(
length: 100
, alias: GroupName
, type: esriFieldTypeString
)
-
centerx
(
alias: CenterX
, type: esriFieldTypeDouble
)
-
centery
(
alias: CenterY
, type: esriFieldTypeDouble
)
-
zorder
(
alias: ZOrder
, type: esriFieldTypeInteger
)
-
shape
(
alias: Shape
, type: esriFieldTypeGeometry
)
Default Mosaic Method: ByAttribute
Allowed Mosaic Methods: ByAttribute,Center,NorthWest,Nadir,LockRaster,Seamline,None
SortField: Name
SortValue: 0
Mosaic Operator: First
Default Compression Quality: 80
Default Resampling Method: Nearest
Max Record Count: 1000
Max Image Height: 4100
Max Image Width: 5000
Max Download Image Count: 20
Max Mosaic Image Count: 20
Allow Raster Function: true
Allow Copy: true
Allow Analysis: true
Allow Compute TiePoints: false
Supports Statistics: true
Supports Advanced Queries: true
Use StandardizedQueries: true
Raster Type Infos:
Name: Raster Dataset
Description: Supports all ArcGIS Raster Datasets
Help:
Has Raster Attribute Table: false
Edit Fields Info: N/A
Ownership Based AccessControl For Rasters: N/A
Child Resources:
Info
Statistics
Key Properties
Legend
Raster Function Infos
Supported Operations:
Export Image
Query
Identify
Measure
Compute Histograms
Compute Statistics Histograms
Get Samples
Compute Class Statistics
Query GPS Info
Find Images
Image to Map
Map to Image
Measure from Image
Image to Map Multiray
Query Boundary
Compute Pixel Location
Compute Angles
Validate
Project