View In:
ArcGIS JavaScript
ArcGIS Enterprise Map Viewer
ArcGIS Earth
Service Description: SMASH/aus_fullclim_irmt_99th_percentile_hourly
Name: SMASH/aus_fullclim_irmt_99th_percentile_hourly
Description:
Single Fused Map Cache: false
Extent:
XMin: 109.21429061889648
YMin: -44.78571367263793
XMax: 158.71428993843696
YMax: -5.142857074737549
Spatial Reference: 4326
(4326)
LatestVCSWkid(0)
Initial Extent:
XMin: 109.21429061889648
YMin: -44.78571367263793
XMax: 158.71428993843696
YMax: -5.142857074737549
Spatial Reference: 4326
(4326)
LatestVCSWkid(0)
Full Extent:
XMin: 109.21429061889648
YMin: -44.78571367263793
XMax: 158.71428993843696
YMax: -5.142857074737549
Spatial Reference: 4326
(4326)
LatestVCSWkid(0)
Time Info:
Start Time Field: StdTime
End Time Field: StdTime
Time Extent:
[2020/07/01 00:30:00 UTC, 2020/07/01 23:30:00 UTC]
Time Reference:
N/A
Pixel Size X: 0.035714285223333676
Pixel Size Y: 0.035714285223333676
Band Count: 1
Pixel Type: F32
RasterFunction Infos: {"rasterFunctionInfos": [{
"help": "",
"name": "None",
"description": ""
}]}
Mensuration Capabilities: Basic
Inspection Capabilities:
Has Histograms: true
Has Colormap: false
Has Multi Dimensions : true
Rendering Rule:
Min Scale: 0
Max Scale: 0
Copyright Text:
Service Data Type: esriImageServiceDataTypeScientific
Min Values: -22.125
Max Values: 15.375
Mean Values: 0.10681814890332117
Standard Deviation Values: 2.6063000281668249
Object ID Field:
Fields:
None
Default Mosaic Method: Center
Allowed Mosaic Methods:
SortField:
SortValue: N/A
Mosaic Operator: First
Default Compression Quality: 75
Default Resampling Method: Bilinear
Max Record Count: 1000
Max Image Height: 4100
Max Image Width: 15000
Max Download Image Count: null
Max Mosaic Image Count: null
Allow Raster Function: true
Allow Copy: true
Allow Analysis: true
Allow Compute TiePoints: false
Supports Statistics: false
Supports Advanced Queries: false
Use StandardizedQueries: false
Raster Type Infos:
Name: Raster Dataset
Description: Supports all ArcGIS Raster Datasets
Help:
Has Raster Attribute Table: false
Edit Fields Info: N/A
Ownership Based AccessControl For Rasters: N/A
Child Resources:
Info
Histograms
Statistics
Key Properties
Legend
Raster Function Infos
Multidimensional Info
Slices
Supported Operations:
Export Image
Identify
Measure
Compute Histograms
Compute Statistics Histograms
Get Samples
Compute Class Statistics
Query Boundary
Compute Pixel Location
Compute Angles
Validate
Project