View In:
ArcGIS JavaScript
ArcGIS Enterprise Map Viewer
ArcGIS Earth
Service Description: SMASH/eu_seasclim_ot_frequency_allhours
Name: SMASH/eu_seasclim_ot_frequency_allhours
Description:
Single Fused Map Cache: false
Extent:
XMin: -11.714285373687744
YMin: 32.28571069157671
XMax: 39.64285707473755
YMax: 59.999996185302734
Spatial Reference: 4326
(4326)
LatestVCSWkid(0)
Initial Extent:
XMin: -11.714285373687744
YMin: 32.28571069157671
XMax: 39.64285707473755
YMax: 59.999996185302734
Spatial Reference: 4326
(4326)
LatestVCSWkid(0)
Full Extent:
XMin: -11.714285373687744
YMin: 32.28571069157671
XMax: 39.64285707473755
YMax: 59.999996185302734
Spatial Reference: 4326
(4326)
LatestVCSWkid(0)
Pixel Size X: 0.03571428543005931
Pixel Size Y: 0.035714285430059306
Band Count: 1
Pixel Type: F32
RasterFunction Infos: {"rasterFunctionInfos": [{
"help": "",
"name": "None",
"description": ""
}]}
Mensuration Capabilities: Basic
Inspection Capabilities:
Has Histograms: true
Has Colormap: false
Has Multi Dimensions : true
Rendering Rule:
Min Scale: 0
Max Scale: 0
Copyright Text:
Service Data Type: esriImageServiceDataTypeScientific
Min Values: 0
Max Values: 4.190000057220459
Mean Values: 0.2376133528560693
Standard Deviation Values: 0.32375213829606508
Object ID Field:
Fields:
None
Default Mosaic Method: Center
Allowed Mosaic Methods:
SortField:
SortValue: N/A
Mosaic Operator: First
Default Compression Quality: 75
Default Resampling Method: Bilinear
Max Record Count: 1000
Max Image Height: 4100
Max Image Width: 15000
Max Download Image Count: null
Max Mosaic Image Count: null
Allow Raster Function: true
Allow Copy: true
Allow Analysis: true
Allow Compute TiePoints: false
Supports Statistics: false
Supports Advanced Queries: false
Use StandardizedQueries: false
Raster Type Infos:
Name: Raster Dataset
Description: Supports all ArcGIS Raster Datasets
Help:
Has Raster Attribute Table: false
Edit Fields Info: N/A
Ownership Based AccessControl For Rasters: N/A
Child Resources:
Info
Histograms
Statistics
Key Properties
Legend
Raster Function Infos
Multidimensional Info
Slices
Supported Operations:
Export Image
Identify
Measure
Compute Histograms
Compute Statistics Histograms
Get Samples
Compute Class Statistics
Query Boundary
Compute Pixel Location
Compute Angles
Validate
Project