View In:
ArcGIS JavaScript
ArcGIS Enterprise Map Viewer
ArcGIS Earth
Service Description: SMASH/saf_annual_hr_cloud_top_height_99th_percentile
Name: SMASH/saf_annual_hr_cloud_top_height_99th_percentile
Description:
Single Fused Map Cache: false
Extent:
XMin: 13.241071292578455
YMin: -35.99107141524422
XMax: 35.499999454797035
YMax: -20.508928842726366
Spatial Reference: 4326
(4326)
LatestVCSWkid(0)
Initial Extent:
XMin: 13.241071292578455
YMin: -35.99107141524422
XMax: 35.499999454797035
YMax: -20.508928842726366
Spatial Reference: 4326
(4326)
LatestVCSWkid(0)
Full Extent:
XMin: 13.241071292578455
YMin: -35.99107141524422
XMax: 35.499999454797035
YMax: -20.508928842726366
Spatial Reference: 4326
(4326)
LatestVCSWkid(0)
Time Info:
Start Time Field: StdTime
End Time Field: StdTime
Time Extent:
[2005/06/01 00:30:00 UTC, 2019/06/01 23:30:00 UTC]
Time Reference:
N/A
Pixel Size X: 0.02678571379328349
Pixel Size Y: 0.026785713793283487
Band Count: 1
Pixel Type: F32
RasterFunction Infos: {"rasterFunctionInfos": [{
"help": "",
"name": "None",
"description": ""
}]}
Mensuration Capabilities: Basic
Inspection Capabilities:
Has Histograms: true
Has Colormap: false
Has Multi Dimensions : true
Rendering Rule:
Min Scale: 0
Max Scale: 0
Copyright Text:
Service Data Type: esriImageServiceDataTypeScientific
Min Values: 11.671000480651855
Max Values: 21.798000335693359
Mean Values: 15.692898222246257
Standard Deviation Values: 0.93218052455580858
Object ID Field:
Fields:
None
Default Mosaic Method: Center
Allowed Mosaic Methods:
SortField:
SortValue: N/A
Mosaic Operator: First
Default Compression Quality: 75
Default Resampling Method: Bilinear
Max Record Count: 1000
Max Image Height: 4100
Max Image Width: 15000
Max Download Image Count: null
Max Mosaic Image Count: null
Allow Raster Function: true
Allow Copy: true
Allow Analysis: true
Allow Compute TiePoints: false
Supports Statistics: false
Supports Advanced Queries: false
Use StandardizedQueries: false
Raster Type Infos:
Name: Raster Dataset
Description: Supports all ArcGIS Raster Datasets
Help:
Has Raster Attribute Table: false
Edit Fields Info: N/A
Ownership Based AccessControl For Rasters: N/A
Child Resources:
Info
Histograms
Statistics
Key Properties
Legend
Raster Function Infos
Multidimensional Info
Slices
Supported Operations:
Export Image
Identify
Measure
Compute Histograms
Compute Statistics Histograms
Get Samples
Compute Class Statistics
Query Boundary
Compute Pixel Location
Compute Angles
Validate
Project