View In:
ArcGIS JavaScript
ArcGIS Enterprise Map Viewer
ArcGIS Earth
Service Description: SMASH/saf_seasclim_cth_99th_percentile_allhours
Name: SMASH/saf_seasclim_cth_99th_percentile_allhours
Description:
Single Fused Map Cache: false
Extent:
XMin: 13.241071224212646
YMin: -35.99107096657139
XMax: 35.49999952316284
YMax: -20.508928298950195
Spatial Reference: 4326
(4326)
LatestVCSWkid(0)
Initial Extent:
XMin: 13.241071224212646
YMin: -35.99107096657139
XMax: 35.49999952316284
YMax: -20.508928298950195
Spatial Reference: 4326
(4326)
LatestVCSWkid(0)
Full Extent:
XMin: 13.241071224212646
YMin: -35.99107096657139
XMax: 35.49999952316284
YMax: -20.508928298950195
Spatial Reference: 4326
(4326)
LatestVCSWkid(0)
Pixel Size X: 0.026785713957822137
Pixel Size Y: 0.02678571395782214
Band Count: 1
Pixel Type: F32
RasterFunction Infos: {"rasterFunctionInfos": [{
"help": "",
"name": "None",
"description": ""
}]}
Mensuration Capabilities: Basic
Inspection Capabilities:
Has Histograms: true
Has Colormap: false
Has Multi Dimensions : true
Rendering Rule:
Min Scale: 0
Max Scale: 0
Copyright Text:
Service Data Type: esriImageServiceDataTypeScientific
Min Values: 11.75
Max Values: 19.049999237060547
Mean Values: 15.513532790351656
Standard Deviation Values: 1.1885950588217418
Object ID Field:
Fields:
None
Default Mosaic Method: Center
Allowed Mosaic Methods:
SortField:
SortValue: N/A
Mosaic Operator: First
Default Compression Quality: 75
Default Resampling Method: Bilinear
Max Record Count: 1000
Max Image Height: 4100
Max Image Width: 15000
Max Download Image Count: null
Max Mosaic Image Count: null
Allow Raster Function: true
Allow Copy: true
Allow Analysis: true
Allow Compute TiePoints: false
Supports Statistics: false
Supports Advanced Queries: false
Use StandardizedQueries: false
Raster Type Infos:
Name: Raster Dataset
Description: Supports all ArcGIS Raster Datasets
Help:
Has Raster Attribute Table: false
Edit Fields Info: N/A
Ownership Based AccessControl For Rasters: N/A
Child Resources:
Info
Histograms
Statistics
Key Properties
Legend
Raster Function Infos
Multidimensional Info
Slices
Supported Operations:
Export Image
Identify
Measure
Compute Histograms
Compute Statistics Histograms
Get Samples
Compute Class Statistics
Query Boundary
Compute Pixel Location
Compute Angles
Validate
Project