View In:
ArcGIS JavaScript
ArcGIS Enterprise Map Viewer
ArcGIS Earth
Service Description: smash_trmm_lis_climatology_diurnal_vhrdc_lis_frd
Name: SMASH/smash_trmm_lis_climatology_diurnal_vhrdc_lis_frd
Description: smash_trmm_lis_climatology_diurnal_vhrdc_lis_frd Properties
Single Fused Map Cache: false
Extent:
XMin: -180.0
YMin: -37.999999999999986
XMax: 179.99999999999994
YMax: 38.0
Spatial Reference: 4326
(4326)
LatestVCSWkid(0)
Initial Extent:
XMin: -180.0
YMin: -37.999999999999986
XMax: 179.99999999999994
YMax: 38.0
Spatial Reference: 4326
(4326)
LatestVCSWkid(0)
Full Extent:
XMin: -180.0
YMin: -37.999999999999986
XMax: 179.99999999999994
YMax: 38.0
Spatial Reference: 4326
(4326)
LatestVCSWkid(0)
Pixel Size X: 0.09999999999999998
Pixel Size Y: 0.09999999999999998
Band Count: 1
Pixel Type: F32
RasterFunction Infos: {"rasterFunctionInfos": [{
"help": "",
"name": "None",
"description": ""
}]}
Mensuration Capabilities: Basic
Inspection Capabilities:
Has Histograms: true
Has Colormap: false
Has Multi Dimensions : true
Rendering Rule:
Min Scale: 0
Max Scale: 0
Copyright Text: NASA SMASH
Service Data Type: esriImageServiceDataTypeScientific
Min Values: 0
Max Values: 0.052408769726753235
Mean Values: 0.00037617216538505816
Standard Deviation Values: 0.0011076048658444841
Object ID Field:
Fields:
None
Default Mosaic Method: Center
Allowed Mosaic Methods:
SortField:
SortValue: N/A
Mosaic Operator: First
Default Compression Quality: 75
Default Resampling Method: Bilinear
Max Record Count: 1000
Max Image Height: 4100
Max Image Width: 15000
Max Download Image Count: null
Max Mosaic Image Count: null
Allow Raster Function: true
Allow Copy: true
Allow Analysis: true
Allow Compute TiePoints: false
Supports Statistics: false
Supports Advanced Queries: false
Use StandardizedQueries: false
Raster Type Infos:
Name: Raster Dataset
Description: Supports all ArcGIS Raster Datasets
Help:
Has Raster Attribute Table: false
Edit Fields Info: N/A
Ownership Based AccessControl For Rasters: N/A
Child Resources:
Info
Histograms
Statistics
Key Properties
Legend
Raster Function Infos
Multidimensional Info
Slices
Supported Operations:
Export Image
Identify
Measure
Compute Histograms
Compute Statistics Histograms
Get Samples
Compute Class Statistics
Query Boundary
Compute Pixel Location
Compute Angles
Validate
Project