View In:
ArcGIS JavaScript
ArcGIS Enterprise Map Viewer
ArcGIS Earth
Service Description: Harmonized Landsat Sentinel-2 Surface Reflectance 30m - Multiband Mode
Name: nasa_lp_daac/HLSS30_v2_Service
Description: Harmonized Landsat Sentinel-2 Surface Reflectance 30m - Multiband Mode
Single Fused Map Cache: false
Extent:
XMin: -179.99999999999997
YMin: -51.539335732999916
XMax: 180.0
YMax: 89.99999104300008
Spatial Reference: 4326
(4326)
LatestVCSWkid(0)
Initial Extent:
XMin: -179.99999999999997
YMin: -51.539335732999916
XMax: 180.0
YMax: 89.99999104300008
Spatial Reference: 4326
(4326)
LatestVCSWkid(0)
Full Extent:
XMin: -179.99999999999997
YMin: -51.539335732999916
XMax: 180.0
YMax: 89.99999104300008
Spatial Reference: 4326
(4326)
LatestVCSWkid(0)
Time Info:
Start Time Field: acquisitiondate
End Time Field: N/A
Time Extent:
[2026/05/01 00:07:41 UTC, 2026/07/25 23:21:40 UTC]
Time Reference:
N/A
Pixel Size X: 2.694939577208896E-4
Pixel Size Y: 2.69494E-4
Band Count: 9
Pixel Type: S16
RasterFunction Infos: {"rasterFunctionInfos": [
{
"help": "",
"name": "Natural Color",
"description": "Natural Color bands red, green, blue(4, 3, 2) displayed with fixed stretch applied."
},
{
"help": "",
"name": "Natural Color with DRA and Cloud Mask",
"description": "Natural Color bands red, green, blue (4, 3, 2) displayed with dynamic range adjustment and cloud mask applied."
},
{
"help": "",
"name": "Normalized Burn Ratio (NBR) with Cloud Mask",
"description": "The NBR index is computed as NIR(Band05)-SWIR(Band7)/NIR(Band05)+SWIR(Band7) and appropriate for highlighting burned areas and estimating fire severity. It highlights burnt areas in fire zones greater than 500 acres. You will need to generate a differenced NBR image by subtracting a post-fire image from a pre-fire image. The resulting darker pixels represent burned areas. This index also contains a cloud mask."
},
{
"help": "",
"name": "Normalized Burn Ratio",
"description": "The NBR index is computed as NIR(Band05)-SWIR(Band7)/NIR(Band05)+SWIR(Band7) and appropriate for highlighting burned areas and estimating fire severity. It highlights burnt areas in fire zones greater than 500 acres. You will need to generate a differenced NBR image by subtracting a post-fire image from a pre-fire image. The resulting darker pixels represent burned areas."
},
{
"help": "",
"name": "None",
"description": "Make a Raster or Raster Dataset into a Function Raster Dataset."
}
]}
Mensuration Capabilities: NONE
Inspection Capabilities:
Has Histograms: false
Has Colormap: false
Has Multi Dimensions : false
Rendering Rule:
Min Scale: 0
Max Scale: 0
Copyright Text:
Service Data Type: esriImageServiceDataTypeGeneric
Min Values: N/A
Max Values: N/A
Mean Values: N/A
Standard Deviation Values: N/A
Object ID Field: objectid
Fields:
-
objectid
(
alias: objectid
, type: esriFieldTypeOID
)
-
name
(
length: 200
, alias: name
, type: esriFieldTypeString
)
-
minps
(
alias: minps
, type: esriFieldTypeDouble
)
-
maxps
(
alias: maxps
, type: esriFieldTypeDouble
)
-
lowps
(
alias: lowps
, type: esriFieldTypeDouble
)
-
highps
(
alias: highps
, type: esriFieldTypeDouble
)
-
category
(
alias: category
, type: esriFieldTypeInteger
, Coded Values:
[0: Unknown]
, [1: Primary]
, [2: Overview]
, ...6 more...
)
-
tag
(
length: 100
, alias: tag
, type: esriFieldTypeString
)
-
groupname
(
length: 100
, alias: groupname
, type: esriFieldTypeString
)
-
productname
(
length: 100
, alias: productname
, type: esriFieldTypeString
)
-
centerx
(
alias: centerx
, type: esriFieldTypeDouble
)
-
centery
(
alias: centery
, type: esriFieldTypeDouble
)
-
zorder
(
alias: zorder
, type: esriFieldTypeInteger
)
-
shape
(
alias: shape
, type: esriFieldTypeGeometry
)
-
cloudcover
(
alias: Cloud cover percentage from CMR UMM-G metadata
, type: esriFieldTypeDouble
)
-
daynight
(
length: 10
, alias: Day or Night acquisition flag from CMR
, type: esriFieldTypeString
)
-
tileid
(
length: 10
, alias: MGRS tile identifier extracted from filename (e.g., T11SKA)
, type: esriFieldTypeString
)
-
processinglevel
(
length: 5
, alias: Processing level (static value S30 for Sentinel-2)
, type: esriFieldTypeString
)
-
acquisitiondate
(
length: 8
, alias: Acquisition Date
, type: esriFieldTypeDate
)
-
st_area(shape)
(
alias: st_area(shape)
, type: esriFieldTypeDouble
)
-
st_perimeter(shape)
(
alias: st_perimeter(shape)
, type: esriFieldTypeDouble
)
Default Mosaic Method: ByAttribute
Allowed Mosaic Methods: ByAttribute,NorthWest,Center,LockRaster,Nadir,Viewpoint,Seamline,None
SortField: acquisitiondate
SortValue: 2050/01/01
Mosaic Operator: First
Default Compression Quality: 75
Default Resampling Method: Bilinear
Max Record Count: 1000
Max Image Height: 4100
Max Image Width: 15000
Max Download Image Count: 20
Max Mosaic Image Count: 20
Allow Raster Function: true
Allow Copy: true
Allow Analysis: true
Allow Compute TiePoints: false
Supports Statistics: true
Supports Advanced Queries: true
Use StandardizedQueries: true
Raster Type Infos:
Name: Raster Dataset
Description: Supports all ArcGIS Raster Datasets
Help:
Has Raster Attribute Table: false
Edit Fields Info: N/A
Ownership Based AccessControl For Rasters: N/A
Child Resources:
Info
Statistics
Key Properties
Legend
Raster Function Infos
Supported Operations:
Export Image
Query
Identify
Measure
Compute Histograms
Compute Statistics Histograms
Get Samples
Compute Class Statistics
Query GPS Info
Find Images
Image to Map
Map to Image
Measure from Image
Image to Map Multiray
Query Boundary
Compute Pixel Location
Compute Angles
Validate
Project