View In:
ArcGIS JavaScript
ArcGIS Online Map Viewer
ArcGIS Earth
Service Description: The visible-wavelength true color RGB digital camera images were taken by astronauts aboard the International Space Station showing areas affected by tornadoes in the US such as the cities of Nashville, TN, Murfreesboro, TN, Huntsville, AL, and Bowling Green, KY. These images were manually georeferenced by members of the Earth Science and Remote Sensing Unit at NASA Johnson Space Center.
Date of Images:
March 17, 2025
Suggested Use:
This image provides regional context, and may be useful for visualization of the ongoing event. Higher spatial resolution images may be suitable for spatial analysis to support decision making or research applications.
Sensor:
Nikon Z9 Electronic Still Camera. Focal Length: 200mm.
Additional Information about the astronaut photography from the ISS.
Credits:
International Space Station Program, NASA Johnson Space Center Earth Science and Remote Sensing Unit, ARES Division, Exploration Architecture, Integration & Science Directorate
Data Download:
Full datasets are available for download at the Gateway to Astronaut Photography of Earth.
Download for this specific data can be found at: https://eol.jsc.nasa.gov/WebShare/WebShare.pl?folder=NASADisastersProgram/NDP_TornadoesMidwesternUS_17MAR2025
Name: DISASTERS_202503_SEVEREWX_SOUTHEASTUS/202504_iss
Description: The visible-wavelength true color RGB digital camera images were taken by astronauts aboard the International Space Station showing areas affected by tornadoes in the US such as the cities of Nashville, TN, Murfreesboro, TN, Huntsville, AL, and Bowling Green, KY. These images were manually georeferenced by members of the Earth Science and Remote Sensing Unit at NASA Johnson Space Center.
Date of Images:
March 17, 2025
Suggested Use:
This image provides regional context, and may be useful for visualization of the ongoing event. Higher spatial resolution images may be suitable for spatial analysis to support decision making or research applications.
Sensor:
Nikon Z9 Electronic Still Camera. Focal Length: 200mm.
Additional Information about the astronaut photography from the ISS.
Credits:
International Space Station Program, NASA Johnson Space Center Earth Science and Remote Sensing Unit, ARES Division, Exploration Architecture, Integration & Science Directorate
Data Download:
Full datasets are available for download at the Gateway to Astronaut Photography of Earth.
Download for this specific data can be found at: https://eol.jsc.nasa.gov/WebShare/WebShare.pl?folder=NASADisastersProgram/NDP_TornadoesMidwesternUS_17MAR2025
Single Fused Map Cache: false
Extent:
XMin: -9728041.8234
YMin: 4040063.290788967
XMax: -9553651.829104783
YMax: 4501305.207000002
Spatial Reference: 102100
(3857)
LatestVCSWkid(0)
Initial Extent:
XMin: -9728041.8234
YMin: 4040063.290788967
XMax: -9553651.829104783
YMax: 4501305.207000002
Spatial Reference: 102100
(3857)
LatestVCSWkid(0)
Full Extent:
XMin: -9728041.8234
YMin: 4040063.290788967
XMax: -9553651.829104783
YMax: 4501305.207000002
Spatial Reference: 102100
(3857)
LatestVCSWkid(0)
Pixel Size X: 13.963487412540402
Pixel Size Y: 13.963487412540418
Band Count: 4
Pixel Type: U8
RasterFunction Infos: {"rasterFunctionInfos": [{
"name": "None",
"description": "",
"help": ""
}]}
Mensuration Capabilities: Basic
Inspection Capabilities:
Has Histograms: false
Has Colormap: false
Has Multi Dimensions : false
Rendering Rule:
Min Scale: 0
Max Scale: 0
Resampling: false
Copyright Text: International Space Station Program, NASA Johnson Space Center Earth Science and Remote Sensing Unit, ARES Division, Exploration Architecture, Integration & Science Directorate
Service Data Type: esriImageServiceDataTypeGeneric
Min Values: N/A
Max Values: N/A
Mean Values: N/A
Standard Deviation Values: N/A
Object ID Field: OBJECTID
Fields:
-
OBJECTID
(
type: esriFieldTypeOID, alias: OBJECTID
)
-
Shape
(
type: esriFieldTypeGeometry, alias: Shape
)
-
Name
(
type: esriFieldTypeString, alias: Name, length: 200
)
-
MinPS
(
type: esriFieldTypeDouble, alias: MinPS
)
-
MaxPS
(
type: esriFieldTypeDouble, alias: MaxPS
)
-
LowPS
(
type: esriFieldTypeDouble, alias: LowPS
)
-
HighPS
(
type: esriFieldTypeDouble, alias: HighPS
)
-
Category
(
type: esriFieldTypeInteger, alias: Category
, Coded Values:
[0: Unknown]
, [1: Primary]
, [2: Overview]
, ...6 more...
)
-
Tag
(
type: esriFieldTypeString, alias: Tag, length: 100
)
-
GroupName
(
type: esriFieldTypeString, alias: GroupName, length: 100
)
-
ProductName
(
type: esriFieldTypeString, alias: ProductName, length: 100
)
-
CenterX
(
type: esriFieldTypeDouble, alias: CenterX
)
-
CenterY
(
type: esriFieldTypeDouble, alias: CenterY
)
-
ZOrder
(
type: esriFieldTypeInteger, alias: ZOrder
)
-
Shape_Length
(
type: esriFieldTypeDouble, alias: Shape_Length
)
-
Shape_Area
(
type: esriFieldTypeDouble, alias: Shape_Area
)
Default Mosaic Method: Northwest
Allowed Mosaic Methods: NorthWest,Center,LockRaster,ByAttribute,Nadir,Viewpoint,Seamline,None
SortField:
SortValue: null
Mosaic Operator: First
Default Compression Quality: 75
Default Resampling Method: Bilinear
Max Record Count: 1000
Max Image Height: 4100
Max Image Width: 15000
Max Download Image Count: 20
Max Mosaic Image Count: 20
Allow Raster Function: true
Allow Copy: true
Allow Analysis: true
Allow Compute TiePoints: false
Supports Statistics: true
Supports Advanced Queries: true
Use StandardizedQueries: true
Raster Type Infos:
Name: Raster Dataset
Description: Supports all ArcGIS Raster Datasets
Help:
Has Raster Attribute Table: false
Edit Fields Info: null
Ownership Based AccessControl For Rasters: null
Child Resources:
Info
Statistics
Key Properties
Legend
Raster Function Infos
Supported Operations:
Export Image
Query
Identify
Measure
Compute Histograms
Compute Statistics Histograms
Get Samples
Compute Class Statistics
Query GPS Info
Find Images
Image to Map
Map to Image
Measure from Image
Image to Map Multiray
Query Boundary
Compute Pixel Location
Compute Angles
Validate
Project