View In:
ArcGIS JavaScript
ArcGIS Online Map Viewer
ArcGIS Earth
Service Description: Date of Image(s):
December 8; December 9; December 12
Date of Next Image:
Typically, there are two daytime images expected each day around 1:00pm EST.
Summary:
Floodwater derived from Visible Infrared Imaging Radiometer Suite (VIIRS) instrument onboard NASA and NOAA Suomi National Polar-orbiting Partnership (Suomi NPP) satellite.
VIIRS floodwater product was produced by NASA SatCORPS Ground Station Observation Network (GSON) low latency system..
The image shows where floodwater was detected from the VIIRS observation.
Suggested Usage:The floodwater fraction percentage (1-100%) that contains water
Satellite/Sensor/Resolution:
375m spatial resolution
VIIRS instrument onboard SNPP Satellite
Generated using CSPP v4.1
Credits:
Image Credit: NASA Langley SatCORPS
Louis Nguyen of NASA Langley SatCORPS: https://satcorps.larc.nasa.gov/new/
NOAA Joint Polar Satellite System (JPSS) VIIRS Data: https://registry.opendata.aws/noaa-jpss/ o Additional information on VIIRS Flooding products: https://disasters-geoplatform.hub.arcgis.com/pages/viirs-floodwater-fraction-map/
Name: DISASTERS_202512_FLOOD_WA/2512_viirs_FloodwaterFraction
Description: Date of Image(s):
December 8; December 9; December 12
Date of Next Image:
Typically, there are two daytime images expected each day around 1:00pm EST.
Summary:
Floodwater derived from Visible Infrared Imaging Radiometer Suite (VIIRS) instrument onboard NASA and NOAA Suomi National Polar-orbiting Partnership (Suomi NPP) satellite.
VIIRS floodwater product was produced by NASA SatCORPS Ground Station Observation Network (GSON) low latency system..
The image shows where floodwater was detected from the VIIRS observation.
Suggested Usage:The floodwater fraction percentage (1-100%) that contains water
Satellite/Sensor/Resolution:
375m spatial resolution
VIIRS instrument onboard SNPP Satellite
Generated using CSPP v4.1
Credits:
Image Credit: NASA Langley SatCORPS
Louis Nguyen of NASA Langley SatCORPS: https://satcorps.larc.nasa.gov/new/
NOAA Joint Polar Satellite System (JPSS) VIIRS Data: https://registry.opendata.aws/noaa-jpss/ o Additional information on VIIRS Flooding products: https://disasters-geoplatform.hub.arcgis.com/pages/viirs-floodwater-fraction-map/
Single Fused Map Cache: false
Extent:
XMin: -1.7351035561300002E7
YMin: 2639410.6810040437
XMax: -8975316.25528808
YMax: 1.1916362489200003E7
Spatial Reference: 102100
(3857)
LatestVCSWkid(0)
Initial Extent:
XMin: -1.7351035561300002E7
YMin: 2639410.6810040437
XMax: -8975316.25528808
YMax: 1.1916362489200003E7
Spatial Reference: 102100
(3857)
LatestVCSWkid(0)
Full Extent:
XMin: -1.7351035561300002E7
YMin: 2639410.6810040437
XMax: -8975316.25528808
YMax: 1.1916362489200003E7
Spatial Reference: 102100
(3857)
LatestVCSWkid(0)
Pixel Size X: 375.3571437667797
Pixel Size Y: 375.3571437667797
Band Count: 3
Pixel Type: U8
RasterFunction Infos: {"rasterFunctionInfos": [
{
"name": "None",
"description": "Make a Raster or Raster Dataset into a Function Raster Dataset.",
"help": ""
},
{
"name": "VIIRS_FloodwaterFraction",
"description": "VIIRS_FloodwaterFraction",
"help": ""
}
]}
Mensuration Capabilities: None
Inspection Capabilities:
Has Histograms: true
Has Colormap: false
Has Multi Dimensions : false
Rendering Rule:
Min Scale: 0
Max Scale: 0
Resampling: false
Copyright Text: NASA Langley SatCORPS; Louis Nguyen
Service Data Type: esriImageServiceDataTypeRGB
Min Values: 0, 0, 0
Max Values: 255, 255, 255
Mean Values: 63.28262055655864, 61.98118278094428, 68.77304069178213
Standard Deviation Values: 96.08808803568375, 94.09753605785622, 98.17180633469056
Object ID Field: OBJECTID
Fields:
-
OBJECTID
(
type: esriFieldTypeOID, alias: OBJECTID
)
-
Shape
(
type: esriFieldTypeGeometry, alias: Shape
)
-
Name
(
type: esriFieldTypeString, alias: Name, length: 200
)
-
MinPS
(
type: esriFieldTypeDouble, alias: MinPS
)
-
MaxPS
(
type: esriFieldTypeDouble, alias: MaxPS
)
-
LowPS
(
type: esriFieldTypeDouble, alias: LowPS
)
-
HighPS
(
type: esriFieldTypeDouble, alias: HighPS
)
-
Category
(
type: esriFieldTypeInteger, alias: Category
, Coded Values:
[0: Unknown]
, [1: Primary]
, [2: Overview]
, ...6 more...
)
-
Tag
(
type: esriFieldTypeString, alias: Tag, length: 100
)
-
GroupName
(
type: esriFieldTypeString, alias: GroupName, length: 100
)
-
ProductName
(
type: esriFieldTypeString, alias: ProductName, length: 100
)
-
CenterX
(
type: esriFieldTypeDouble, alias: CenterX
)
-
CenterY
(
type: esriFieldTypeDouble, alias: CenterY
)
-
ZOrder
(
type: esriFieldTypeInteger, alias: ZOrder
)
-
Date
(
type: esriFieldTypeDateOnly, alias: Date
)
-
Shape_Length
(
type: esriFieldTypeDouble, alias: Shape_Length
)
-
Shape_Area
(
type: esriFieldTypeDouble, alias: Shape_Area
)
Default Mosaic Method: Northwest
Allowed Mosaic Methods: NorthWest,Center,LockRaster,ByAttribute,Nadir,Viewpoint,Seamline,None
SortField:
SortValue: null
Mosaic Operator: First
Default Compression Quality: 75
Default Resampling Method: Bilinear
Max Record Count: 1000
Max Image Height: 4100
Max Image Width: 15000
Max Download Image Count: 20
Max Mosaic Image Count: 20
Allow Raster Function: true
Allow Copy: true
Allow Analysis: true
Allow Compute TiePoints: false
Supports Statistics: true
Supports Advanced Queries: true
Use StandardizedQueries: true
Raster Type Infos:
Name: Raster Dataset
Description: Supports all ArcGIS Raster Datasets
Help:
Has Raster Attribute Table: false
Edit Fields Info: null
Ownership Based AccessControl For Rasters: null
Child Resources:
Info
Histograms
Statistics
Key Properties
Legend
Raster Function Infos
Supported Operations:
Export Image
Query
Identify
Compute Histograms
Compute Statistics Histograms
Get Samples
Compute Class Statistics
Query GPS Info
Find Images
Image to Map
Map to Image
Measure from Image
Image to Map Multiray
Query Boundary
Compute Pixel Location
Compute Angles
Validate
Project