View In:
ArcGIS JavaScript
ArcGIS Online Map Viewer
ArcGIS Earth
Service Description: NOTE: due to the size and resolution of the imagery, the data may take some time to load and will not visualize unless zoomed into the area(s) of interest. Consult the attribute table for data footprints and zoom in further if difficulties arise.
Date of Image:
3/21/2026
Summary:
Capella Space backscatter is derived from scaling factors provided within the Capella Geocoded Terrain Corrected (GEO) product. The GEO product is geocoded and terrain height corrected using a high-resolution Digital Elevation Model (DEM). The SAR image is multi-looked, range compressed and focused. The units for this product are decibels (dB).
Resolution:
Sub 1 meter
Credits
NASA Disasters Program, processing by MSFC, Capella Space. For derived products: “Includes copyrighted material of Capella Space. All rights reserved.” This work utilized data made available through the NASA Commercial Satellite Data Acquisition (CSDA) program.
Name: DISASTERS_202603_FLOOD_HI/2605_capella
Description: NOTE: due to the size and resolution of the imagery, the data may take some time to load and will not visualize unless zoomed into the area(s) of interest. Consult the attribute table for data footprints and zoom in further if difficulties arise.
Date of Image:
3/21/2026
Summary:
Capella Space backscatter is derived from scaling factors provided within the Capella Geocoded Terrain Corrected (GEO) product. The GEO product is geocoded and terrain height corrected using a high-resolution Digital Elevation Model (DEM). The SAR image is multi-looked, range compressed and focused. The units for this product are decibels (dB).
Resolution:
Sub 1 meter
Credits
NASA Disasters Program, processing by MSFC, Capella Space. For derived products: “Includes copyrighted material of Capella Space. All rights reserved.” This work utilized data made available through the NASA Commercial Satellite Data Acquisition (CSDA) program.
Single Fused Map Cache: false
Extent:
XMin: -1.76065276215E7
YMin: 2455715.3157760887
XMax: -1.7596435432608478E7
YMax: 2465907.813099999
Spatial Reference: 102100
(3857)
LatestVCSWkid(0)
Initial Extent:
XMin: -1.76065276215E7
YMin: 2455715.3157760887
XMax: -1.7596435432608478E7
YMax: 2465907.813099999
Spatial Reference: 102100
(3857)
LatestVCSWkid(0)
Full Extent:
XMin: -1.76065276215E7
YMin: 2455715.3157760887
XMax: -1.7596435432608478E7
YMax: 2465907.813099999
Spatial Reference: 102100
(3857)
LatestVCSWkid(0)
Pixel Size X: 0.4144976544900027
Pixel Size Y: 0.4144976544900464
Band Count: 1
Pixel Type: F32
RasterFunction Infos: {"rasterFunctionInfos": [
{
"name": "capella",
"description": "capella_hiflood",
"help": ""
},
{
"name": "None",
"description": "Make a Raster or Raster Dataset into a Function Raster Dataset.",
"help": ""
}
]}
Mensuration Capabilities:
Inspection Capabilities:
Has Histograms: true
Has Colormap: false
Has Multi Dimensions : false
Rendering Rule:
Min Scale: 0
Max Scale: 0
Resampling: false
Copyright Text: NASA Disasters Program, MSFC, Commercial Satellite Data Acquisition (CSDA) Program, Capella Space.
Service Data Type: esriImageServiceDataTypeGeneric
Min Values: -18.249122619628906
Max Values: 14.379093170166016
Mean Values: -7.899879314210515
Standard Deviation Values: 3.538984104182401
Object ID Field: OBJECTID
Fields:
-
OBJECTID
(
type: esriFieldTypeOID, alias: OBJECTID
)
-
Shape
(
type: esriFieldTypeGeometry, alias: Shape
)
-
Name
(
type: esriFieldTypeString, alias: Name, length: 200
)
-
MinPS
(
type: esriFieldTypeDouble, alias: MinPS
)
-
MaxPS
(
type: esriFieldTypeDouble, alias: MaxPS
)
-
LowPS
(
type: esriFieldTypeDouble, alias: LowPS
)
-
HighPS
(
type: esriFieldTypeDouble, alias: HighPS
)
-
Category
(
type: esriFieldTypeInteger, alias: Category
, Coded Values:
[0: Unknown]
, [1: Primary]
, [2: Overview]
, ...6 more...
)
-
Tag
(
type: esriFieldTypeString, alias: Tag, length: 100
)
-
GroupName
(
type: esriFieldTypeString, alias: GroupName, length: 100
)
-
ProductName
(
type: esriFieldTypeString, alias: ProductName, length: 100
)
-
CenterX
(
type: esriFieldTypeDouble, alias: CenterX
)
-
CenterY
(
type: esriFieldTypeDouble, alias: CenterY
)
-
ZOrder
(
type: esriFieldTypeInteger, alias: ZOrder
)
-
Shape_Length
(
type: esriFieldTypeDouble, alias: Shape_Length
)
-
Shape_Area
(
type: esriFieldTypeDouble, alias: Shape_Area
)
Default Mosaic Method: Northwest
Allowed Mosaic Methods: NorthWest,Center,LockRaster,ByAttribute,Nadir,Viewpoint,Seamline,None
SortField:
SortValue: null
Mosaic Operator: First
Default Compression Quality: 75
Default Resampling Method: Bilinear
Max Record Count: 1000
Max Image Height: 4100
Max Image Width: 15000
Max Download Image Count: 20
Max Mosaic Image Count: 20
Allow Raster Function: true
Allow Copy: true
Allow Analysis: true
Allow Compute TiePoints: false
Supports Statistics: true
Supports Advanced Queries: true
Use StandardizedQueries: true
Raster Type Infos:
Name: Raster Dataset
Description: Supports all ArcGIS Raster Datasets
Help:
Has Raster Attribute Table: false
Edit Fields Info: null
Ownership Based AccessControl For Rasters: null
Child Resources:
Info
Histograms
Statistics
Key Properties
Legend
Raster Function Infos
Supported Operations:
Export Image
Query
Identify
Measure
Compute Histograms
Compute Statistics Histograms
Get Samples
Compute Class Statistics
Query GPS Info
Find Images
Image to Map
Map to Image
Measure from Image
Image to Map Multiray
Query Boundary
Compute Pixel Location
Compute Angles
Validate
Project