View In:
ArcGIS JavaScript
ArcGIS Online Map Viewer
ArcGIS Earth
Service Description: NOTE: due to the size and resolution of the imagery, the data may take some time to load and will not visualize unless zoomed into the area(s) of interest. Consult the attribute table for data footprints and zoom in further if difficulties arise.
Date of Image:
3/20/2026
Summary
ICEYE US Backscatter is derived from scaling factors provided with ICEYE Single Look Complex (SLC) and/or Ground Range Detected (GRD) products. In the SLC product all original sensor data is retained and offers full resolution in the azimuth and range directions. Data in the GRD product is oriented in the natural range-azimuth orientation and projected to the ground surface using an Earth ellipsoid mode and may be multi-looked to reduced speckle. The units for this product are decibels (dB).
Resolution:
Sub 1 meter.
Credits
NASA Disasters Program, Processing from MSFC, ICEYE US. For derived products: “Includes copyrighted material of ICEYE US. All rights reserved.” This work utilized data made available through the NASA Commercial Satellite Data Acquisition (CSDA) program.
Name: DISASTERS_202603_FLOOD_HI/2605_iceye
Description: NOTE: due to the size and resolution of the imagery, the data may take some time to load and will not visualize unless zoomed into the area(s) of interest. Consult the attribute table for data footprints and zoom in further if difficulties arise.
Date of Image:
3/20/2026
Summary
ICEYE US Backscatter is derived from scaling factors provided with ICEYE Single Look Complex (SLC) and/or Ground Range Detected (GRD) products. In the SLC product all original sensor data is retained and offers full resolution in the azimuth and range directions. Data in the GRD product is oriented in the natural range-azimuth orientation and projected to the ground surface using an Earth ellipsoid mode and may be multi-looked to reduced speckle. The units for this product are decibels (dB).
Resolution:
Sub 1 meter.
Credits
NASA Disasters Program, Processing from MSFC, ICEYE US. For derived products: “Includes copyrighted material of ICEYE US. All rights reserved.” This work utilized data made available through the NASA Commercial Satellite Data Acquisition (CSDA) program.
Single Fused Map Cache: false
Extent:
XMin: -1.7605222572300002E7
YMin: 2457702.6422173907
XMax: -1.759926300708261E7
YMax: 2463698.0769999996
Spatial Reference: 102100
(3857)
LatestVCSWkid(0)
Initial Extent:
XMin: -1.7605222572300002E7
YMin: 2457702.6422173907
XMax: -1.759926300708261E7
YMax: 2463698.0769999996
Spatial Reference: 102100
(3857)
LatestVCSWkid(0)
Full Extent:
XMin: -1.7605222572300002E7
YMin: 2457702.6422173907
XMax: -1.759926300708261E7
YMax: 2463698.0769999996
Spatial Reference: 102100
(3857)
LatestVCSWkid(0)
Pixel Size X: 0.6521739130434073
Pixel Size Y: 0.652173913043498
Band Count: 1
Pixel Type: F32
RasterFunction Infos: {"rasterFunctionInfos": [
{
"name": "iceye_hawaii",
"description": "iceye_hawaii",
"help": ""
},
{
"name": "None",
"description": "Make a Raster or Raster Dataset into a Function Raster Dataset.",
"help": ""
}
]}
Mensuration Capabilities:
Inspection Capabilities:
Has Histograms: true
Has Colormap: false
Has Multi Dimensions : false
Rendering Rule:
Min Scale: 0
Max Scale: 0
Resampling: false
Copyright Text: NASA Disasters Program, MSFC, Commercial Satellite Data Acquisition (CSDA) Program, ICEYE.
Service Data Type: esriImageServiceDataTypeGeneric
Min Values: -14.135576248168945
Max Values: 18.988924026489258
Mean Values: -5.1030921590618
Standard Deviation Values: 3.3053895555986768
Object ID Field: OBJECTID
Fields:
-
OBJECTID
(
type: esriFieldTypeOID, alias: OBJECTID
)
-
Shape
(
type: esriFieldTypeGeometry, alias: Shape
)
-
Name
(
type: esriFieldTypeString, alias: Name, length: 200
)
-
MinPS
(
type: esriFieldTypeDouble, alias: MinPS
)
-
MaxPS
(
type: esriFieldTypeDouble, alias: MaxPS
)
-
LowPS
(
type: esriFieldTypeDouble, alias: LowPS
)
-
HighPS
(
type: esriFieldTypeDouble, alias: HighPS
)
-
Category
(
type: esriFieldTypeInteger, alias: Category
, Coded Values:
[0: Unknown]
, [1: Primary]
, [2: Overview]
, ...6 more...
)
-
Tag
(
type: esriFieldTypeString, alias: Tag, length: 100
)
-
GroupName
(
type: esriFieldTypeString, alias: GroupName, length: 100
)
-
ProductName
(
type: esriFieldTypeString, alias: ProductName, length: 100
)
-
CenterX
(
type: esriFieldTypeDouble, alias: CenterX
)
-
CenterY
(
type: esriFieldTypeDouble, alias: CenterY
)
-
ZOrder
(
type: esriFieldTypeInteger, alias: ZOrder
)
-
Shape_Length
(
type: esriFieldTypeDouble, alias: Shape_Length
)
-
Shape_Area
(
type: esriFieldTypeDouble, alias: Shape_Area
)
Default Mosaic Method: Northwest
Allowed Mosaic Methods: NorthWest,Center,LockRaster,ByAttribute,Nadir,Viewpoint,Seamline,None
SortField:
SortValue: null
Mosaic Operator: First
Default Compression Quality: 75
Default Resampling Method: Bilinear
Max Record Count: 1000
Max Image Height: 4100
Max Image Width: 15000
Max Download Image Count: 20
Max Mosaic Image Count: 20
Allow Raster Function: true
Allow Copy: true
Allow Analysis: true
Allow Compute TiePoints: false
Supports Statistics: true
Supports Advanced Queries: true
Use StandardizedQueries: true
Raster Type Infos:
Name: Raster Dataset
Description: Supports all ArcGIS Raster Datasets
Help:
Has Raster Attribute Table: false
Edit Fields Info: null
Ownership Based AccessControl For Rasters: null
Child Resources:
Info
Histograms
Statistics
Key Properties
Legend
Raster Function Infos
Supported Operations:
Export Image
Query
Identify
Measure
Compute Histograms
Compute Statistics Histograms
Get Samples
Compute Class Statistics
Query GPS Info
Find Images
Image to Map
Map to Image
Measure from Image
Image to Map Multiray
Query Boundary
Compute Pixel Location
Compute Angles
Validate
Project