View In:
ArcGIS JavaScript
ArcGIS Online Map Viewer
ArcGIS Earth
Service Description: Dates of Images:
Post-Event:
Pre-Event: April 5, 2026
Date of Next Image:
Unknown
Summary:
Natural Color: The Natural Color RGB provides a false composite look at the surface. This RGB uses a shortwave, the near-infrared, and red channels from the instrument.
True Color: The True Color RGB composite provides a product of how the surface would look to the naked eye from space. The RGB is created using the red, green, and blue channels of the respective instrument.
Suggested Use:
Natural Color: areas of water will appear blue, healthy green vegetation will appear as a bright green, urban areas in various shades of magenta.
True Color: provides a product of how the surface would look to the naked eye from space. The True Color RGB is produced using the 3 visible wavelength bands (red, green, and blue) from the respective sensor. Some minor atmospheric corrections have occurred.
Satellite/Sensor:
Landsat 9 Operational Land Imager (OLI)
Resolution:
30 meters
Credits:
NASA/MSFC, USGS
Esri REST Endpoint:
See URL section on right side of page
WMS Endpoint:
Name: DISASTERS_202604_TYPHON_SINLAKU/202606_landsat
Description: Dates of Images:
Post-Event:
Pre-Event: April 5, 2026
Date of Next Image:
Unknown
Summary:
Natural Color: The Natural Color RGB provides a false composite look at the surface. This RGB uses a shortwave, the near-infrared, and red channels from the instrument.
True Color: The True Color RGB composite provides a product of how the surface would look to the naked eye from space. The RGB is created using the red, green, and blue channels of the respective instrument.
Suggested Use:
Natural Color: areas of water will appear blue, healthy green vegetation will appear as a bright green, urban areas in various shades of magenta.
True Color: provides a product of how the surface would look to the naked eye from space. The True Color RGB is produced using the 3 visible wavelength bands (red, green, and blue) from the respective sensor. Some minor atmospheric corrections have occurred.
Satellite/Sensor:
Landsat 9 Operational Land Imager (OLI)
Resolution:
30 meters
Credits:
NASA/MSFC, USGS
Esri REST Endpoint:
See URL section on right side of page
WMS Endpoint:
Single Fused Map Cache: false
Extent:
XMin: 1.6047116489200003E7
YMin: 1339505.151677878
XMax: 1.6357583487801962E7
YMax: 1915416.0995999984
Spatial Reference: 102100
(3857)
LatestVCSWkid(0)
Initial Extent:
XMin: 1.6047116489200003E7
YMin: 1339505.151677878
XMax: 1.6357583487801962E7
YMax: 1915416.0995999984
Spatial Reference: 102100
(3857)
LatestVCSWkid(0)
Full Extent:
XMin: 1.6047116489200003E7
YMin: 1339505.151677878
XMax: 1.6357583487801962E7
YMax: 1915416.0995999984
Spatial Reference: 102100
(3857)
LatestVCSWkid(0)
Pixel Size X: 30.482768640349352
Pixel Size Y: 30.482768640349352
Band Count: 4
Pixel Type: U8
RasterFunction Infos: {"rasterFunctionInfos": [
{
"name": "landsatimagery",
"description": "landsatimagery",
"help": ""
},
{
"name": "None",
"description": "Make a Raster or Raster Dataset into a Function Raster Dataset.",
"help": ""
}
]}
Mensuration Capabilities: Basic
Inspection Capabilities:
Has Histograms: true
Has Colormap: false
Has Multi Dimensions : false
Rendering Rule:
Min Scale: 0
Max Scale: 0
Copyright Text: NASA/MSFC, USGS
Service Data Type: esriImageServiceDataTypeGeneric
Min Values: 3, 3, 3, 255
Max Values: 255, 255, 255, 255
Mean Values: 4.27670981462831, 6.309435576710651, 4.375077246769883, 255
Standard Deviation Values: 6.2476609919568205, 8.137670177634504, 5.2531965220454, 0
Object ID Field: OBJECTID
Fields:
-
OBJECTID
(
type: esriFieldTypeOID, alias: OBJECTID
)
-
Shape
(
type: esriFieldTypeGeometry, alias: Shape
)
-
Name
(
type: esriFieldTypeString, alias: Name, length: 200
)
-
MinPS
(
type: esriFieldTypeDouble, alias: MinPS
)
-
MaxPS
(
type: esriFieldTypeDouble, alias: MaxPS
)
-
LowPS
(
type: esriFieldTypeDouble, alias: LowPS
)
-
HighPS
(
type: esriFieldTypeDouble, alias: HighPS
)
-
Category
(
type: esriFieldTypeInteger, alias: Category
, Coded Values:
[0: Unknown]
, [1: Primary]
, [2: Overview]
, ...6 more...
)
-
Tag
(
type: esriFieldTypeString, alias: Tag, length: 100
)
-
GroupName
(
type: esriFieldTypeString, alias: GroupName, length: 100
)
-
ProductName
(
type: esriFieldTypeString, alias: ProductName, length: 100
)
-
CenterX
(
type: esriFieldTypeDouble, alias: CenterX
)
-
CenterY
(
type: esriFieldTypeDouble, alias: CenterY
)
-
ZOrder
(
type: esriFieldTypeInteger, alias: ZOrder
)
-
Date
(
type: esriFieldTypeDateOnly, alias: Date
)
-
Shape_Length
(
type: esriFieldTypeDouble, alias: Shape_Length
)
-
Shape_Area
(
type: esriFieldTypeDouble, alias: Shape_Area
)
Default Mosaic Method: Northwest
Allowed Mosaic Methods: NorthWest,Center,LockRaster,ByAttribute,Nadir,Viewpoint,Seamline,None
SortField:
SortValue: null
Mosaic Operator: First
Default Compression Quality: 75
Default Resampling Method: Bilinear
Max Record Count: 1000
Max Image Height: 4100
Max Image Width: 15000
Max Download Image Count: 20
Max Mosaic Image Count: 20
Allow Raster Function: true
Allow Copy: true
Allow Analysis: true
Allow Compute TiePoints: false
Supports Statistics: true
Supports Advanced Queries: true
Use StandardizedQueries: true
Raster Type Infos:
Name: Raster Dataset
Description: Supports all ArcGIS Raster Datasets
Help:
Has Raster Attribute Table: false
Edit Fields Info: null
Ownership Based AccessControl For Rasters: null
Child Resources:
Info
Histograms
Statistics
Key Properties
Legend
Raster Function Infos
Supported Operations:
Export Image
Query
Identify
Measure
Compute Histograms
Compute Statistics Histograms
Get Samples
Compute Class Statistics
Query GPS Info
Find Images
Image to Map
Map to Image
Measure from Image
Image to Map Multiray
Query Boundary
Compute Pixel Location
Compute Angles
Validate
Project