View In:
ArcGIS JavaScript
ArcGIS Online Map Viewer
ArcGIS Earth
Service Description: Dates of Images
Post-Event: 5/21/2026
Summary
Skysat is a high-resolution satellite constellation operated by Planet and allows for multiple viewing opportunities of any location on Earth daily. Skysat collects 4-band imagery which allows for multiple derived products to be produced.
The True Color RGB composite provides a product of how the surface would look to the naked eye from space. The RGB is created using the red, green, and blue channels of the respective instrument.
The Color Infrared composite is created using the near-infrared, red, and green channels. The near-infrared gives the ability to see through thin clouds. Healthy vegetation is shown as red, water is in blue.
Resolution
~1 m
Credits
NASA Disasters Program, Processing from MSFC, Planet. For derived products: “Includes copyrighted material of Skysat. All rights reserved.” This work utilized data made available through the NASA Commercial Satellite Data Acquisition (CSDA) program.
Name: DISASTERS_202605_FIRE_CA/202609_skysat_ndvi
Description: Dates of Images
Post-Event: 5/21/2026
Summary
Skysat is a high-resolution satellite constellation operated by Planet and allows for multiple viewing opportunities of any location on Earth daily. Skysat collects 4-band imagery which allows for multiple derived products to be produced.
Normalized Differential Vegetation Index (NDVI) maps are produced by converting pixel values to NDVI = (Red – NIR)/(Red + NIR), NIR indicates the near infrared band. The dynamically generated Normalized Difference Vegetation Index (NDVI) layer is an index for quantifying green vegetation. It reflects the state of vegetation health based on how vegetation reflects light at certain wavelengths.
Suggested Use:
NDVI: Dark green colors are areas with a lot of green leaf growth which indicates the presence of chlorophyll. Chlorophyll reflects more infrared light and less visible light. Areas with some green leaf growth are in light greens, and areas with little to no vegetation growth are even lighter greens.
Resolution
~1 m
Credits
NASA Disasters Program, Processing from MSFC, Planet. For derived products: “Includes copyrighted material of Skysat. All rights reserved.” This work utilized data made available through the NASA Commercial Satellite Data Acquisition (CSDA) program.
Single Fused Map Cache: false
Extent:
XMin: -1.33967877369E7
YMin: 4010735.5915871356
XMax: -1.3346068692365784E7
YMax: 4040231.867700003
Spatial Reference: 102100
(3857)
LatestVCSWkid(0)
Initial Extent:
XMin: -1.33967877369E7
YMin: 4010735.5915871356
XMax: -1.3346068692365784E7
YMax: 4040231.867700003
Spatial Reference: 102100
(3857)
LatestVCSWkid(0)
Full Extent:
XMin: -1.33967877369E7
YMin: 4010735.5915871356
XMax: -1.3346068692365784E7
YMax: 4040231.867700003
Spatial Reference: 102100
(3857)
LatestVCSWkid(0)
Pixel Size X: 0.5773960284402011
Pixel Size Y: 0.5773960284401981
Band Count: 1
Pixel Type: F32
RasterFunction Infos: {"rasterFunctionInfos": [
{
"name": "ndvi_sinlaku",
"description": "1 green 0 white",
"help": ""
},
{
"name": "None",
"description": "Make a Raster or Raster Dataset into a Function Raster Dataset.",
"help": ""
}
]}
Mensuration Capabilities:
Inspection Capabilities:
Has Histograms: true
Has Colormap: false
Has Multi Dimensions : false
Rendering Rule:
Min Scale: 0
Max Scale: 0
Copyright Text: NASA Disasters Program, Processing from MSFC, Planet. For derived products: “Includes copyrighted material of Skysat. All rights reserved.” This work utilized data made available through the NASA Commercial Satellite Data Acquisition (CSDA) program.
Service Data Type: esriImageServiceDataTypeGeneric
Min Values: -0.9488577246665955
Max Values: 0.8577783107757568
Mean Values: -0.005666680622442693
Standard Deviation Values: 0.2741403756110546
Object ID Field: OBJECTID
Fields:
-
OBJECTID
(
type: esriFieldTypeOID, alias: OBJECTID
)
-
Shape
(
type: esriFieldTypeGeometry, alias: Shape
)
-
Name
(
type: esriFieldTypeString, alias: Name, length: 200
)
-
MinPS
(
type: esriFieldTypeDouble, alias: MinPS
)
-
MaxPS
(
type: esriFieldTypeDouble, alias: MaxPS
)
-
LowPS
(
type: esriFieldTypeDouble, alias: LowPS
)
-
HighPS
(
type: esriFieldTypeDouble, alias: HighPS
)
-
Category
(
type: esriFieldTypeInteger, alias: Category
, Coded Values:
[0: Unknown]
, [1: Primary]
, [2: Overview]
, ...6 more...
)
-
Tag
(
type: esriFieldTypeString, alias: Tag, length: 100
)
-
GroupName
(
type: esriFieldTypeString, alias: GroupName, length: 100
)
-
ProductName
(
type: esriFieldTypeString, alias: ProductName, length: 100
)
-
CenterX
(
type: esriFieldTypeDouble, alias: CenterX
)
-
CenterY
(
type: esriFieldTypeDouble, alias: CenterY
)
-
ZOrder
(
type: esriFieldTypeInteger, alias: ZOrder
)
-
Shape_Length
(
type: esriFieldTypeDouble, alias: Shape_Length
)
-
Shape_Area
(
type: esriFieldTypeDouble, alias: Shape_Area
)
Default Mosaic Method: Northwest
Allowed Mosaic Methods: NorthWest,Center,LockRaster,ByAttribute,Nadir,Viewpoint,Seamline,None
SortField:
SortValue: null
Mosaic Operator: First
Default Compression Quality: 75
Default Resampling Method: Bilinear
Max Record Count: 1000
Max Image Height: 4100
Max Image Width: 15000
Max Download Image Count: 20
Max Mosaic Image Count: 20
Allow Raster Function: true
Allow Copy: true
Allow Analysis: true
Allow Compute TiePoints: false
Supports Statistics: true
Supports Advanced Queries: true
Use StandardizedQueries: true
Raster Type Infos:
Name: Raster Dataset
Description: Supports all ArcGIS Raster Datasets
Help:
Has Raster Attribute Table: false
Edit Fields Info: null
Ownership Based AccessControl For Rasters: null
Child Resources:
Info
Histograms
Statistics
Key Properties
Legend
Raster Function Infos
Supported Operations:
Export Image
Query
Identify
Compute Histograms
Compute Statistics Histograms
Get Samples
Compute Class Statistics
Query GPS Info
Find Images
Image to Map
Map to Image
Measure from Image
Image to Map Multiray
Query Boundary
Compute Pixel Location
Compute Angles
Validate
Project