View In:
ArcGIS JavaScript
ArcGIS Online Map Viewer
ArcGIS Earth
Service Description: Dates of Images:
Post-Event: July 4, 2026
Pre-Event: June 19, 2026
Date of Next Image:
Unknown
Summary:
Normalized Differential Vegetation Index (NDVI) maps are produced by converting pixel values to NDVI = (Red – NIR)/(Red + NIR), NIR indicates the near infrared band. The dynamically generated Normalized Difference Vegetation Index (NDVI) layer is an index for quantifying green vegetation. It reflects the state of vegetation health based on how vegetation reflects light at certain wavelengths.
NDVI change was created by subtracting the cloud-masked post-event NDVI from the cloud-masked pre-event NDVI to show areas of potentially impacted vegetation as negative values (darker shades) and healthy/unimpacted vegetation in positive values (lighter shades). NDVI change can give insights to impacts from an event (like the scouring of vegetation from the riverbeds) but can also show changes in unrelated areas like the clearing of agriculture fields.
This layer is a binary NDVI change polygon (threshold of areas where NDVI decreased by -0.25 or more) for November 2, 2025 as compared to October 20, 2025.
Suggested Use:
NDVI change: Commonly used to distinguish healthy/active vegetation (positive values) from potentially unhealthy/impacted vegetation (negative values). This map shows a binary flag where NDVI decreased.
Satellite/Sensor:
MultiSpectral Instrument (MSI) on European Space Agency's (ESA) Copernicus Sentinel-2A/2B satellites
Resolution:
10 meters
Credits:
NASA/MSFC, USGS, ESA Copernicus
Esri REST Endpoint:
See URL section on right side of page
Name: DISASTERS_202607_FIRE_CO/202614_sentinel2_bndviChange
Description: Dates of Images:
Post-Event: July 4, 2026
Pre-Event: June 19, 2026
Date of Next Image:
Unknown
Summary:
Normalized Differential Vegetation Index (NDVI) maps are produced by converting pixel values to NDVI = (Red – NIR)/(Red + NIR), NIR indicates the near infrared band. The dynamically generated Normalized Difference Vegetation Index (NDVI) layer is an index for quantifying green vegetation. It reflects the state of vegetation health based on how vegetation reflects light at certain wavelengths.
NDVI change was created by subtracting the cloud-masked post-event NDVI from the cloud-masked pre-event NDVI to show areas of potentially impacted vegetation as negative values (darker shades) and healthy/unimpacted vegetation in positive values (lighter shades). NDVI change can give insights to impacts from an event (like the scouring of vegetation from the riverbeds) but can also show changes in unrelated areas like the clearing of agriculture fields.
This layer is a binary NDVI change polygon (threshold of areas where NDVI decreased by -0.25 or more) for November 2, 2025 as compared to October 20, 2025.
Suggested Use:
NDVI change: Commonly used to distinguish healthy/active vegetation (positive values) from potentially unhealthy/impacted vegetation (negative values). This map shows a binary flag where NDVI decreased.
Satellite/Sensor:
MultiSpectral Instrument (MSI) on European Space Agency's (ESA) Copernicus Sentinel-2A/2B satellites
Resolution:
10 meters
Credits:
NASA/MSFC, USGS, ESA Copernicus
Esri REST Endpoint:
See URL section on right side of page
Single Fused Map Cache: false
Extent:
XMin: -1.20731000442E7
YMin: 4552634.991903244
XMax: -1.1929196636872455E7
YMax: 4697126.748899996
Spatial Reference: 102100
(3857)
LatestVCSWkid(0)
Initial Extent:
XMin: -1.20731000442E7
YMin: 4552634.991903244
XMax: -1.1929196636872455E7
YMax: 4697126.748899996
Spatial Reference: 102100
(3857)
LatestVCSWkid(0)
Full Extent:
XMin: -1.20731000442E7
YMin: 4552634.991903244
XMax: -1.1929196636872455E7
YMax: 4697126.748899996
Spatial Reference: 102100
(3857)
LatestVCSWkid(0)
Pixel Size X: 11.536268023692797
Pixel Size Y: 11.53626802369283
Band Count: 1
Pixel Type: U8
RasterFunction Infos: {"rasterFunctionInfos": [{
"name": "None",
"description": "Make a Raster or Raster Dataset into a Function Raster Dataset.",
"help": ""
}]}
Mensuration Capabilities: Basic
Inspection Capabilities:
Has Histograms: false
Has Colormap: false
Has Multi Dimensions : false
Rendering Rule:
Min Scale: 0
Max Scale: 0
Copyright Text: NASA/MSFC, USGS, ESA Copernicus
Service Data Type: esriImageServiceDataTypeGeneric
Min Values: N/A
Max Values: N/A
Mean Values: N/A
Standard Deviation Values: N/A
Object ID Field: OBJECTID
Fields:
-
OBJECTID
(
type: esriFieldTypeOID, alias: OBJECTID
)
-
Shape
(
type: esriFieldTypeGeometry, alias: Shape
)
-
Name
(
type: esriFieldTypeString, alias: Name, length: 200
)
-
MinPS
(
type: esriFieldTypeDouble, alias: MinPS
)
-
MaxPS
(
type: esriFieldTypeDouble, alias: MaxPS
)
-
LowPS
(
type: esriFieldTypeDouble, alias: LowPS
)
-
HighPS
(
type: esriFieldTypeDouble, alias: HighPS
)
-
Category
(
type: esriFieldTypeInteger, alias: Category
, Coded Values:
[0: Unknown]
, [1: Primary]
, [2: Overview]
, ...6 more...
)
-
Tag
(
type: esriFieldTypeString, alias: Tag, length: 100
)
-
GroupName
(
type: esriFieldTypeString, alias: GroupName, length: 100
)
-
ProductName
(
type: esriFieldTypeString, alias: ProductName, length: 100
)
-
CenterX
(
type: esriFieldTypeDouble, alias: CenterX
)
-
CenterY
(
type: esriFieldTypeDouble, alias: CenterY
)
-
ZOrder
(
type: esriFieldTypeInteger, alias: ZOrder
)
-
Date
(
type: esriFieldTypeDateOnly, alias: Date
)
-
Shape_Length
(
type: esriFieldTypeDouble, alias: Shape_Length
)
-
Shape_Area
(
type: esriFieldTypeDouble, alias: Shape_Area
)
Default Mosaic Method: Northwest
Allowed Mosaic Methods: NorthWest,Center,LockRaster,ByAttribute,Nadir,Viewpoint,Seamline,None
SortField:
SortValue: null
Mosaic Operator: First
Default Compression Quality: 75
Default Resampling Method: Bilinear
Max Record Count: 1000
Max Image Height: 4100
Max Image Width: 15000
Max Download Image Count: 20
Max Mosaic Image Count: 20
Allow Raster Function: true
Allow Copy: true
Allow Analysis: true
Allow Compute TiePoints: false
Supports Statistics: true
Supports Advanced Queries: true
Use StandardizedQueries: true
Raster Type Infos:
Name: Raster Dataset
Description: Supports all ArcGIS Raster Datasets
Help:
Has Raster Attribute Table: false
Edit Fields Info: null
Ownership Based AccessControl For Rasters: null
Child Resources:
Info
Statistics
Key Properties
Legend
Raster Function Infos
Supported Operations:
Export Image
Query
Identify
Measure
Compute Histograms
Compute Statistics Histograms
Get Samples
Compute Class Statistics
Query GPS Info
Find Images
Image to Map
Map to Image
Measure from Image
Image to Map Multiray
Query Boundary
Compute Pixel Location
Compute Angles
Validate
Project