View In:
ArcGIS JavaScript
ArcGIS Online Map Viewer
ArcGIS Earth
Service Description: Dates of Images:
Dates: 04/20/2024 (pre-flood), 05/06/2024, 05/07/2024, 05/09/2024, 05/15/2024, 05/21/2024 Time Zone: GMT (local crossing time of ~1:00 pm)
Summary:
These are NDVI images from PACE OCI of the 2024 flooding in Brazil using data from the OCI LANDVI suite, where NDVI is one of the products delivered daily by the mission. The images show how the landscape changes from a pre-flood day (04/20/2024) through flood days ending at 05/21/2024 at ~1:00 pm local time. NDVI is a measure of approximate greenness and health in vegetation but can also be useful in distinguishing water extent and unhealthy vegetated areas, which can be see in these images throughout the flood.
Suggested Use:
NDVI is a normalized band ratio measuring approximate greenness and vegetation health. Higher positive values mean greener and abundant vegetation, values around 0 mean bare soil or rock, and lower negative values mean non-vegetated areas like water or clouds. These images show the transition of the area around the Jacui River from non-flooded conditions (high NDVI values) to flooded (NDVI values in the negative, indicating water presence). Clouds have been screened from these products, so low NDVI values can around the river can be identified as water.
Satellite/Sensor/Resolution:
Satellite: PACE, sensor: OCI, temporal resolution: daily, spatial resolution: gridded to 0.015 degrees from a Level 2 product in instrument swath (varying pixel size, 1.2 km at nadir).
Name: DISASTERS_EX2602_202405_FLOOD_BRAZIL/ex2602_pace_ndvi
Description: Dates of Images:
Dates: 04/20/2024 (pre-flood), 05/06/2024, 05/07/2024, 05/09/2024, 05/15/2024, 05/21/2024 Time Zone: GMT (local crossing time of ~1:00 pm)
Summary:
These are NDVI images from PACE OCI of the 2024 flooding in Brazil using data from the OCI LANDVI suite, where NDVI is one of the products delivered daily by the mission. The images show how the landscape changes from a pre-flood day (04/20/2024) through flood days ending at 05/21/2024 at ~1:00 pm local time. NDVI is a measure of approximate greenness and health in vegetation but can also be useful in distinguishing water extent and unhealthy vegetated areas, which can be see in these images throughout the flood.
Suggested Use:
NDVI is a normalized band ratio measuring approximate greenness and vegetation health. Higher positive values mean greener and abundant vegetation, values around 0 mean bare soil or rock, and lower negative values mean non-vegetated areas like water or clouds. These images show the transition of the area around the Jacui River from non-flooded conditions (high NDVI values) to flooded (NDVI values in the negative, indicating water presence). Clouds have been screened from these products, so low NDVI values can around the river can be identified as water.
Satellite/Sensor/Resolution:
Satellite: PACE, sensor: OCI, temporal resolution: daily, spatial resolution: gridded to 0.015 degrees from a Level 2 product in instrument swath (varying pixel size, 1.2 km at nadir).
Single Fused Map Cache: false
Extent:
XMin: -6136486.93
YMin: -3744279.3590077115
XMax: -5483598.1164974505
YMax: -3209945.803199999
Spatial Reference: 102100
(3857)
LatestVCSWkid(0)
Initial Extent:
XMin: -6136486.93
YMin: -3744279.3590077115
XMax: -5483598.1164974505
YMax: -3209945.803199999
Spatial Reference: 102100
(3857)
LatestVCSWkid(0)
Full Extent:
XMin: -6136486.93
YMin: -3744279.3590077115
XMax: -5483598.1164974505
YMax: -3209945.803199999
Spatial Reference: 102100
(3857)
LatestVCSWkid(0)
Pixel Size X: 1669.7923618991028
Pixel Size Y: 1669.7923618991015
Band Count: 1
Pixel Type: F32
RasterFunction Infos: {"rasterFunctionInfos": [
{
"name": "pace_ndvi",
"description": "pace_ndvi",
"help": ""
},
{
"name": "None",
"description": "Make a Raster or Raster Dataset into a Function Raster Dataset.",
"help": ""
}
]}
Mensuration Capabilities: None
Inspection Capabilities:
Has Histograms: true
Has Colormap: false
Has Multi Dimensions : false
Rendering Rule:
Min Scale: 0
Max Scale: 0
Copyright Text: NASA PACE Team, POC: Skye Caplan.
Service Data Type: esriImageServiceDataTypeGeneric
Min Values: -0.5578991174697876
Max Values: 0.8818449974060059
Mean Values: 0.6023982035211731
Standard Deviation Values: 0.1681883933333861
Object ID Field: OBJECTID
Fields:
-
OBJECTID
(
type: esriFieldTypeOID, alias: OBJECTID
)
-
Shape
(
type: esriFieldTypeGeometry, alias: Shape
)
-
Name
(
type: esriFieldTypeString, alias: Name, length: 200
)
-
MinPS
(
type: esriFieldTypeDouble, alias: MinPS
)
-
MaxPS
(
type: esriFieldTypeDouble, alias: MaxPS
)
-
LowPS
(
type: esriFieldTypeDouble, alias: LowPS
)
-
HighPS
(
type: esriFieldTypeDouble, alias: HighPS
)
-
Category
(
type: esriFieldTypeInteger, alias: Category
, Coded Values:
[0: Unknown]
, [1: Primary]
, [2: Overview]
, ...6 more...
)
-
Tag
(
type: esriFieldTypeString, alias: Tag, length: 100
)
-
GroupName
(
type: esriFieldTypeString, alias: GroupName, length: 100
)
-
ProductName
(
type: esriFieldTypeString, alias: ProductName, length: 100
)
-
CenterX
(
type: esriFieldTypeDouble, alias: CenterX
)
-
CenterY
(
type: esriFieldTypeDouble, alias: CenterY
)
-
ZOrder
(
type: esriFieldTypeInteger, alias: ZOrder
)
-
Date
(
type: esriFieldTypeDateOnly, alias: Date
)
-
Shape_Length
(
type: esriFieldTypeDouble, alias: Shape_Length
)
-
Shape_Area
(
type: esriFieldTypeDouble, alias: Shape_Area
)
Default Mosaic Method: Northwest
Allowed Mosaic Methods: NorthWest,Center,LockRaster,ByAttribute,Nadir,Viewpoint,Seamline,None
SortField:
SortValue: null
Mosaic Operator: First
Default Compression Quality: 75
Default Resampling Method: Bilinear
Max Record Count: 1000
Max Image Height: 4100
Max Image Width: 15000
Max Download Image Count: 20
Max Mosaic Image Count: 20
Allow Raster Function: true
Allow Copy: true
Allow Analysis: true
Allow Compute TiePoints: false
Supports Statistics: true
Supports Advanced Queries: true
Use StandardizedQueries: true
Raster Type Infos:
Name: Raster Dataset
Description: Supports all ArcGIS Raster Datasets
Help:
Has Raster Attribute Table: false
Edit Fields Info: null
Ownership Based AccessControl For Rasters: null
Child Resources:
Info
Histograms
Statistics
Key Properties
Legend
Raster Function Infos
Supported Operations:
Export Image
Query
Identify
Compute Histograms
Compute Statistics Histograms
Get Samples
Compute Class Statistics
Query GPS Info
Find Images
Image to Map
Map to Image
Measure from Image
Image to Map Multiray
Query Boundary
Compute Pixel Location
Compute Angles
Validate
Project