View In:
ArcGIS JavaScript
ArcGIS Online Map Viewer
ArcGIS Earth
Service Description: Dates of Images:
04/24/24, 04/26/24, 04/28/24, 05/01/24, 05/06/24, 05/08/24, 05/09/24, 05/14/24, 05/19/24 (GMT)
Summary:
GeoTiff files with water depth above baselevel for dates noted above. Coverage varies by date and gaps exist due to clouds, sensor issues, etc.; pixels with no depth value are not necessarily water-free. Details on product generation workflow are included in the attached powerpoint slides.
Suggested Use:
Image values are water depths in meters above the pre-event water surface level. High values indicate deep water while low values indicate shallow water
Satellite/Sensor/Resoolution:
Data used to generate the product (OPERA L3 DSWx HLS v1 water mask and ALOS World 3D 30m DEM) were collected at 30 m spatial resolution. The product has a spatial resolution of 30 m and a temporal resolution of 1-5 days.
Credits:
NASA-JPL/Caltech ARIA/OPERA team, Copernicus Sentinel Data, Landsat, processing by Karin Lehnigk (karin.e.lehnigk@nasa.gov)
Name: opera_flooddepth
Description: Dates of Images:
04/24/24, 04/26/24, 04/28/24, 05/01/24, 05/06/24, 05/08/24, 05/09/24, 05/14/24, 05/19/24 (GMT)
Summary:
GeoTiff files with water depth above baselevel for dates noted above. Coverage varies by date and gaps exist due to clouds, sensor issues, etc.; pixels with no depth value are not necessarily water-free. Details on product generation workflow are included in the attached powerpoint slides.
Suggested Use:
Image values are water depths in meters above the pre-event water surface level. High values indicate deep water while low values indicate shallow water
Satellite/Sensor/Resoolution:
Data used to generate the product (OPERA L3 DSWx HLS v1 water mask and ALOS World 3D 30m DEM) were collected at 30 m spatial resolution. The product has a spatial resolution of 30 m and a temporal resolution of 1-5 days.
Credits:
NASA-JPL/Caltech ARIA/OPERA team, Copernicus Sentinel Data, Landsat, processing by Karin Lehnigk (karin.e.lehnigk@nasa.gov)
Single Fused Map Cache: false
Extent:
XMin: -6073851.3561
YMin: -3624589.4559030347
XMax: -5560080.98400828
YMax: -3325572.934799999
Spatial Reference: 102100
(3857)
LatestVCSWkid(0)
Initial Extent:
XMin: -6073851.3561
YMin: -3624589.4559030347
XMax: -5560080.98400828
YMax: -3325572.934799999
Spatial Reference: 102100
(3857)
LatestVCSWkid(0)
Full Extent:
XMin: -6073851.3561
YMin: -3624589.4559030347
XMax: -5560080.98400828
YMax: -3325572.934799999
Spatial Reference: 102100
(3857)
LatestVCSWkid(0)
Pixel Size X: 30.922080775908565
Pixel Size Y: 30.922080775908547
Band Count: 1
Pixel Type: F32
RasterFunction Infos: {"rasterFunctionInfos": [
{
"name": "opera_flooddepth",
"description": "opera_flooddepth",
"help": ""
},
{
"name": "None",
"description": "Make a Raster or Raster Dataset into a Function Raster Dataset.",
"help": ""
}
]}
Mensuration Capabilities: None
Inspection Capabilities:
Has Histograms: true
Has Colormap: false
Has Multi Dimensions : false
Rendering Rule:
Min Scale: 0
Max Scale: 0
Copyright Text: NASA-JPL/Caltech ARIA/OPERA team, Copernicus Sentinel Data, Landsat, processing by Karin Lehnigk (karin.e.lehnigk@nasa.gov)
Service Data Type: esriImageServiceDataTypeGeneric
Min Values: -127.26941680908203
Max Values: 90.46224212646484
Mean Values: 0.5455902972061208
Standard Deviation Values: 4.307310257465719
Object ID Field: OBJECTID
Fields:
-
OBJECTID
(
type: esriFieldTypeOID, alias: OBJECTID
)
-
Shape
(
type: esriFieldTypeGeometry, alias: Shape
)
-
Name
(
type: esriFieldTypeString, alias: Name, length: 200
)
-
MinPS
(
type: esriFieldTypeDouble, alias: MinPS
)
-
MaxPS
(
type: esriFieldTypeDouble, alias: MaxPS
)
-
LowPS
(
type: esriFieldTypeDouble, alias: LowPS
)
-
HighPS
(
type: esriFieldTypeDouble, alias: HighPS
)
-
Category
(
type: esriFieldTypeInteger, alias: Category
, Coded Values:
[0: Unknown]
, [1: Primary]
, [2: Overview]
, ...6 more...
)
-
Tag
(
type: esriFieldTypeString, alias: Tag, length: 100
)
-
GroupName
(
type: esriFieldTypeString, alias: GroupName, length: 100
)
-
ProductName
(
type: esriFieldTypeString, alias: ProductName, length: 100
)
-
CenterX
(
type: esriFieldTypeDouble, alias: CenterX
)
-
CenterY
(
type: esriFieldTypeDouble, alias: CenterY
)
-
ZOrder
(
type: esriFieldTypeInteger, alias: ZOrder
)
-
Date
(
type: esriFieldTypeDateOnly, alias: Date
)
-
Shape_Length
(
type: esriFieldTypeDouble, alias: Shape_Length
)
-
Shape_Area
(
type: esriFieldTypeDouble, alias: Shape_Area
)
Default Mosaic Method: Northwest
Allowed Mosaic Methods: NorthWest,Center,LockRaster,ByAttribute,Nadir,Viewpoint,Seamline,None
SortField:
SortValue: null
Mosaic Operator: First
Default Compression Quality: 75
Default Resampling Method: Bilinear
Max Record Count: 1000
Max Image Height: 4100
Max Image Width: 15000
Max Download Image Count: 20
Max Mosaic Image Count: 20
Allow Raster Function: true
Allow Copy: true
Allow Analysis: true
Allow Compute TiePoints: false
Supports Statistics: true
Supports Advanced Queries: true
Use StandardizedQueries: true
Raster Type Infos:
Name: Raster Dataset
Description: Supports all ArcGIS Raster Datasets
Help:
Has Raster Attribute Table: false
Edit Fields Info: null
Ownership Based AccessControl For Rasters: null
Child Resources:
Info
Histograms
Statistics
Key Properties
Legend
Raster Function Infos
Supported Operations:
Export Image
Query
Identify
Compute Histograms
Compute Statistics Histograms
Get Samples
Compute Class Statistics
Query GPS Info
Find Images
Image to Map
Map to Image
Measure from Image
Image to Map Multiray
Query Boundary
Compute Pixel Location
Compute Angles
Validate
Project