View In:
ArcGIS JavaScript
ArcGIS Online Map Viewer
ArcGIS Earth
Service Description: OPERA Level-2 Radiometric Terrain Corrected (RTC) products in VV polarization generated from Sentinel-1 SAR imagery, processed by OPERA (JPL).
Name: OPERA_L2_RTC_S1_V1/OPERA_L2_RTC_S1_V1_VV
Description: OPERA Level-2 Radiometric Terrain Corrected (RTC) products in VV polarization generated from Sentinel-1 SAR imagery, processed by OPERA (JPL). Values for the VV polarization are commonly driven by surface roughness and/or soil moisture, with rougher surfaces and higher soil moisture returning higher backscatter values. Surface water appears very dark under calm conditions, as the signal bounces off the surface away from the sensor.
Single Fused Map Cache: false
Extent:
XMin: -2.00375070672E7
YMin: -7726853.783399999
XMax: 2.0037507842788246E7
YMax: 2.42958662166E7
Spatial Reference: 102100
(3857)
LatestVCSWkid(0)
Initial Extent:
XMin: -2.00375070672E7
YMin: -7726853.783399999
XMax: 2.0037507842788246E7
YMax: 2.42958662166E7
Spatial Reference: 102100
(3857)
LatestVCSWkid(0)
Full Extent:
XMin: -2.00375070672E7
YMin: -7726853.783399999
XMax: 2.0037507842788246E7
YMax: 2.42958662166E7
Spatial Reference: 102100
(3857)
LatestVCSWkid(0)
Time Info:
Start Time Field: StartDate
End Time Field: EndDate
Time Extent:
[2023/10/04 00:00:00 UTC, 2026/02/01 00:36:05 UTC]
Time Reference:
N/A
Pixel Size X: 29.99999618963752
Pixel Size Y: 30.0
Band Count: 1
Pixel Type: F32
RasterFunction Infos: {"rasterFunctionInfos": [
{
"name": "Sentinel-1 RTC dB Stretch",
"description": "Sentinel-1 RTC data in dB scale with a stretch applied",
"help": "Converts pixel values from power to dB scale, and applies a min-max stretch from -25 to 0."
},
{
"name": "Sentinel-1 RTC Power",
"description": "Sentinel-1 RTC data in Power scale",
"help": "Displays original pixel values in Power scale."
},
{
"name": "Sentinel-1 RTC Amplitude",
"description": "Sentinel-1 RTC data in Amplitude scale",
"help": "Converts pixel values from power to amplitude scale by taking the square root of the power values."
},
{
"name": "Sentinel-1 RTC dB",
"description": "Sentinel-1 RTC data in dB scale",
"help": "Converts pixel values from power to dB scale by multiplying the log10 of the power values by 10."
},
{
"name": "None",
"description": "Make a Raster or Raster Dataset into a Function Raster Dataset.",
"help": ""
}
]}
Mensuration Capabilities: Basic
Inspection Capabilities:
Has Histograms: false
Has Colormap: false
Has Multi Dimensions : false
Rendering Rule:
Min Scale: 0
Max Scale: 0
Copyright Text: OPERA Level-2 Radiometric Terrain Corrected products from Sentinel-1. Contains modified Copernicus Sentinel data, processed by ESA.
Service Data Type: esriImageServiceDataTypeGeneric
Min Values: N/A
Max Values: N/A
Mean Values: N/A
Standard Deviation Values: N/A
Object ID Field: objectid
Fields:
-
objectid
(
type: esriFieldTypeOID, alias: objectid
)
-
name
(
type: esriFieldTypeString, alias: name, length: 200
)
-
minps
(
type: esriFieldTypeDouble, alias: minps
)
-
maxps
(
type: esriFieldTypeDouble, alias: maxps
)
-
lowps
(
type: esriFieldTypeDouble, alias: lowps
)
-
highps
(
type: esriFieldTypeDouble, alias: highps
)
-
category
(
type: esriFieldTypeInteger, alias: category
, Coded Values:
[0: Unknown]
, [1: Primary]
, [2: Overview]
, ...6 more...
)
-
tag
(
type: esriFieldTypeString, alias: tag, length: 100
)
-
groupname
(
type: esriFieldTypeString, alias: groupname, length: 100
)
-
centerx
(
type: esriFieldTypeDouble, alias: centerx
)
-
centery
(
type: esriFieldTypeDouble, alias: centery
)
-
shape
(
type: esriFieldTypeGeometry, alias: shape
)
-
downloadurl
(
type: esriFieldTypeString, alias: DownloadURL, length: 8000
)
-
urldisplay
(
type: esriFieldTypeString, alias: URLDisplay, length: 8000
)
-
polarization
(
type: esriFieldTypeString, alias: Polarization, length: 8000
)
-
startdate
(
type: esriFieldTypeDate, alias: StartDate, length: 8
)
-
enddate
(
type: esriFieldTypeDate, alias: EndDate, length: 8
)
-
processingdate
(
type: esriFieldTypeString, alias: ProcessingDate, length: 255
)
Default Mosaic Method: ByAttribute
Allowed Mosaic Methods: ByAttribute,Center,NorthWest,Nadir,LockRaster,Seamline,None
SortField: StartDate
SortValue: 1/1/2050 12:00:00 AM
Mosaic Operator: First
Default Compression Quality: 80
Default Resampling Method: Nearest
Max Record Count: 2000
Max Image Height: 5000
Max Image Width: 5000
Max Download Image Count: 50
Max Mosaic Image Count: 75
Allow Raster Function: true
Allow Copy: true
Allow Analysis: true
Allow Compute TiePoints: false
Supports Statistics: true
Supports Advanced Queries: true
Use StandardizedQueries: true
Raster Type Infos:
Name: Raster Dataset
Description: Supports all ArcGIS Raster Datasets
Help:
Has Raster Attribute Table: false
Edit Fields Info: null
Ownership Based AccessControl For Rasters: null
Child Resources:
Info
Statistics
Key Properties
Legend
Raster Function Infos
Supported Operations:
Export Image
Query
Identify
Measure
Compute Histograms
Compute Statistics Histograms
Get Samples
Compute Class Statistics
Query GPS Info
Find Images
Image to Map
Map to Image
Measure from Image
Image to Map Multiray
Query Boundary
Compute Pixel Location
Compute Angles
Validate
Project