View In:
ArcGIS JavaScript
ArcGIS Enterprise Map Viewer
ArcGIS Earth
Service Description: C43245-EAP-SATCORPS/GLOBCOMP01A_HOURLY_FULL
Name: C43245-EAP-SATCORPS/GLOBCOMP01A_HOURLY_FULL
Description:
Single Fused Map Cache: false
Extent:
XMin: -179.9861145
YMin: -89.98611366000002
XMax: 179.986115312
YMax: 89.9861145
Spatial Reference: 4326
(4326)
LatestVCSWkid(0)
Initial Extent:
XMin: -179.9861145
YMin: -89.98611366000002
XMax: 179.986115312
YMax: 89.9861145
Spatial Reference: 4326
(4326)
LatestVCSWkid(0)
Full Extent:
XMin: -179.9861145
YMin: -89.98611366000002
XMax: 179.986115312
YMax: 89.9861145
Spatial Reference: 4326
(4326)
LatestVCSWkid(0)
Time Info:
Start Time Field: StdTime
End Time Field: StdTime
Time Extent:
[2024/08/01 00:00:00 UTC, 2027/12/31 23:00:00 UTC]
Time Reference:
N/A
Pixel Size X: 0.027773492
Pixel Size Y: 0.027773492000000004
Band Count: 1
Pixel Type: U8
RasterFunction Infos: {"rasterFunctionInfos": [
{
"help": "",
"name": "Cloud Top Height",
"description": "Cloud Top Height with Statistics - Stretch"
},
{
"help": "",
"name": "Cloud Top Height with Color Bar",
"description": "Cloud Top Height with Color Bar"
},
{
"help": "",
"name": "Brightness Temperature in 10.8um with Color Bar",
"description": "Brightness Temperature in 10.8um with Statistics and Color Bar"
},
{
"help": "",
"name": "Brightness Temperature in 10.8um",
"description": "Brightness Temperature in 10.8um with Statistics - Stretch"
},
{
"help": "",
"name": "Brightness Temperature in 6.75um",
"description": "Brightness Temperature in 6.75um with Statistics - Stretch"
},
{
"help": "",
"name": "Reflectance in 0.63um",
"description": "Reflectance in 0.63um with Statistics - Stretch"
},
{
"help": "",
"name": "Cloud Bottom Height with Color Bar",
"description": "Cloud Bottom Height with Color Bar"
},
{
"help": "",
"name": "Cloud Optical Depth with Color Bar",
"description": "Cloud Optical Depth with Color Bar"
},
{
"help": "",
"name": "Vertically Informed Liquid Water Path",
"description": "Vertically Informed Liquid Water Path with Statistics - Stretch"
},
{
"help": "",
"name": "Vertically Informed Liquid Water Path with Color Bar",
"description": "Vertically Informed Liquid Water Path with Color Bar"
},
{
"help": "",
"name": "Cloud Bottom Pressure with Color Bar",
"description": "Cloud Bottom Pressure with Color Bar"
},
{
"help": "",
"name": "Cloud Bottom Temperature",
"description": "Cloud Bottom Temperature with Statistics - Stretch"
},
{
"help": "",
"name": "Cloud Bottom Temperature with Color Bar",
"description": "Cloud Bottom Temperature with Color Bar"
},
{
"help": "",
"name": "SLW Aircraft Icing Index",
"description": "SLW Aircraft Icing Index with Statistics - Stretch"
},
{
"help": "",
"name": "Cloud Top Pressure",
"description": "Cloud Top Pressure with Statistics - Stretch"
},
{
"help": "",
"name": "Cloud Top Temperature with Color Bar",
"description": "Cloud Top Temperature with Color Bar"
},
{
"help": "",
"name": "Solar Zenith",
"description": "Solar Zenith with Statistics - Stretch"
},
{
"help": "",
"name": "Cloud Effective Height",
"description": "Cloud Effective Height with Statistics - Stretch"
},
{
"help": "",
"name": "Cloud Effective Height with Color Bar",
"description": "Cloud Effective Height with Color Bar"
},
{
"help": "",
"name": "Cloud Effective Pressure with Color Bar",
"description": "Cloud Effective Pressure with Color Bar"
},
{
"help": "",
"name": "Cloud Effective Temperature",
"description": "Cloud Effective Temperature with Statistics - Stretch"
},
{
"help": "",
"name": "Cloud Effective Temperature with Color Bar",
"description": "Cloud Effective Temperature with Color Bar"
},
{
"help": "",
"name": "Cloud Infrared Emittance",
"description": "Cloud Infrared Emittance with Statistics - Stretch"
},
{
"help": "",
"name": "Cloud Mask with Color Bar",
"description": "Cloud Mask with Color Bar"
},
{
"help": "",
"name": "Cloud Effective Particle Radius",
"description": "Cloud Effective Particle Radius with Statistics - Stretch"
},
{
"help": "",
"name": "None",
"description": "Make a Raster or Raster Dataset into a Function Raster Dataset."
},
{
"help": "",
"name": "BT_10.8um",
"description": "A raster function template."
},
{
"help": "",
"name": "cloud_phase",
"description": "A raster function template."
},
{
"help": "",
"name": "cloud_top_height",
"description": "A raster function template."
},
{
"help": "",
"name": "cloud_bottom_height",
"description": "A raster function template."
},
{
"help": "",
"name": "satellite_ID",
"description": "A raster function template."
},
{
"help": "",
"name": "cloud_optical_depth",
"description": "A raster function template."
},
{
"help": "",
"name": "vi_iwp",
"description": "A raster function template."
},
{
"help": "",
"name": "vi_lwp",
"description": "A raster function template."
},
{
"help": "",
"name": "BT_6.75um",
"description": "A raster function template."
},
{
"help": "",
"name": "cloud_bottom_pressure",
"description": "A raster function template."
},
{
"help": "",
"name": "cloud_bottom_temperature",
"description": "A raster function template."
},
{
"help": "",
"name": "cloud_eff_height",
"description": "A raster function template."
},
{
"help": "",
"name": "cloud_eff_particle_size",
"description": "A raster function template."
},
{
"help": "",
"name": "cloud_eff_pressure",
"description": "A raster function template."
},
{
"help": "",
"name": "cloud_eff_temperature",
"description": "A raster function template."
},
{
"help": "",
"name": "cloud_emittance",
"description": "A raster function template."
},
{
"help": "",
"name": "cloud_top_pressure",
"description": "A raster function template."
},
{
"help": "",
"name": "cloud_top_temperature",
"description": "A raster function template."
},
{
"help": "",
"name": "cloud_lwp_iwp",
"description": "A raster function template."
},
{
"help": "",
"name": "LW_broadband_flux",
"description": "A raster function template."
},
{
"help": "",
"name": "ref_0.63um",
"description": "A raster function template."
},
{
"help": "",
"name": "relative_azimuth",
"description": "A raster function template."
},
{
"help": "",
"name": "SW_broadband_albedo",
"description": "A raster function template."
},
{
"help": "",
"name": "skin_temperature",
"description": "A raster function template."
},
{
"help": "",
"name": "slw_icing_index",
"description": "A raster function template."
},
{
"help": "",
"name": "solar_zenith",
"description": "A raster function template."
},
{
"help": "",
"name": "relative_time",
"description": "A raster function template."
},
{
"help": "",
"name": "view_zenith",
"description": "A raster function template."
}
]}
Mensuration Capabilities: Basic
Inspection Capabilities:
Has Histograms: true
Has Colormap: false
Has Multi Dimensions : true
Rendering Rule:
Min Scale: 0
Max Scale: 0
Copyright Text:
Service Data Type: esriImageServiceDataTypeScientific
Min Values: 180
Max Values: 310
Mean Values: 245
Standard Deviation Values: 0
Object ID Field: objectid
Fields:
-
objectid
(
alias: objectid
, type: esriFieldTypeOID
)
-
name
(
length: 200
, alias: name
, type: esriFieldTypeString
)
-
minps
(
alias: minps
, type: esriFieldTypeDouble
)
-
maxps
(
alias: maxps
, type: esriFieldTypeDouble
)
-
lowps
(
alias: lowps
, type: esriFieldTypeDouble
)
-
highps
(
alias: highps
, type: esriFieldTypeDouble
)
-
category
(
alias: category
, type: esriFieldTypeInteger
, Coded Values:
[0: Unknown]
, [1: Primary]
, [2: Overview]
, ...6 more...
)
-
tag
(
length: 100
, alias: tag
, type: esriFieldTypeString
)
-
groupname
(
length: 100
, alias: groupname
, type: esriFieldTypeString
)
-
productname
(
length: 100
, alias: productname
, type: esriFieldTypeString
)
-
centerx
(
alias: centerx
, type: esriFieldTypeDouble
)
-
centery
(
alias: centery
, type: esriFieldTypeDouble
)
-
zorder
(
alias: zorder
, type: esriFieldTypeInteger
)
-
file
(
length: 255
, alias: file
, type: esriFieldTypeString
)
-
key
(
length: 255
, alias: key
, type: esriFieldTypeString
)
-
domain
(
length: 255
, alias: domain
, type: esriFieldTypeString
)
-
satellite
(
length: 255
, alias: satellite
, type: esriFieldTypeString
)
-
visst
(
length: 255
, alias: visst
, type: esriFieldTypeString
)
-
ingested
(
length: 8
, alias: ingested
, type: esriFieldTypeDate
)
-
updated
(
length: 8
, alias: updated
, type: esriFieldTypeDate
)
-
units
(
length: 255
, alias: units
, type: esriFieldTypeString
)
-
long_name
(
length: 255
, alias: long_name
, type: esriFieldTypeString
)
-
uuid
(
length: 255
, alias: uuid
, type: esriFieldTypeString
)
-
variable
(
length: 8000
, alias: Variable
, type: esriFieldTypeString
)
-
collection
(
length: 8000
, alias: Collection
, type: esriFieldTypeString
)
-
dimensions
(
length: 8000
, alias: Dimensions
, type: esriFieldTypeString
)
-
stdtime
(
length: 8
, alias: StdTime
, type: esriFieldTypeDate
)
-
shape
(
alias: shape
, type: esriFieldTypeGeometry
)
-
st_area(shape)
(
alias: st_area(shape)
, type: esriFieldTypeDouble
)
-
st_perimeter(shape)
(
alias: st_perimeter(shape)
, type: esriFieldTypeDouble
)
Default Mosaic Method: None
Allowed Mosaic Methods: None,NorthWest,Center,LockRaster,ByAttribute,Nadir,Viewpoint,Seamline
SortField: N/A
SortValue: N/A
Mosaic Operator: First
Default Compression Quality: 10000
Default Resampling Method: Nearest
Max Record Count: 1000
Max Image Height: 4100
Max Image Width: 15000
Max Download Image Count: 20
Max Mosaic Image Count: 20
Allow Raster Function: true
Allow Copy: true
Allow Analysis: true
Allow Compute TiePoints: false
Supports Statistics: true
Supports Advanced Queries: true
Use StandardizedQueries: true
Raster Type Infos:
Name: Raster Dataset
Description: Supports all ArcGIS Raster Datasets
Help:
Has Raster Attribute Table: false
Edit Fields Info: N/A
Ownership Based AccessControl For Rasters: N/A
Child Resources:
Info
Histograms
Statistics
Key Properties
Legend
Raster Function Infos
Multidimensional Info
Slices
Supported Operations:
Export Image
Query
Identify
Compute Histograms
Compute Statistics Histograms
Get Samples
Compute Class Statistics
Query GPS Info
Find Images
Image to Map
Map to Image
Measure from Image
Image to Map Multiray
Query Boundary
Compute Pixel Location
Compute Angles
Validate
Project