View In:
ArcGIS JavaScript
ArcGIS Enterprise Map Viewer
ArcGIS Earth
Service Description: Date of Images:
Post-Event: 2/7/2023, 2/9/2023, 2/11/2023, 2/12/2023, 2/14/2023, 2/19/2023, 2/20/2023, 2/21/2023, 2/22/2023, 2/23/2023
Pre-Event: None
Date of Next Image:
Unknown
Summary:
The Natural Color RGB provides a false composite look at the surface. This RGB uses a shortwave, the near-infrared, and red channels from the instrument.
Suggested Use:
For the Natural Color RGB, areas of water will appear blue, healthy green vegetation will appear as a bright green, urban areas in various shades of magenta, snow covered areas in cyan.
Satellite/Sensor:
Landsat 8 Operational Land Imager (OLI)
Landsat 9 Operational Land Imager-2 (OLI-2)
Resolution:
30 meters
Credits:
NASA/MSFC, USGS
Service URL:
WMS Endpoint:
Name: DISASTERS_202302_EARTHQUAKE_TURKIYE/2302_landsat
Description: Date of Images:
Post-Event: 2/7/2023, 2/9/2023, 2/11/2023, 2/12/2023, 2/14/2023, 2/19/2023, 2/20/2023, 2/21/2023, 2/22/2023, 2/23/2023
Pre-Event: None
Date of Next Image:
Unknown
Summary:
The Natural Color RGB provides a false composite look at the surface. This RGB uses a shortwave, the near-infrared, and red channels from the instrument.
Suggested Use:
For the Natural Color RGB, areas of water will appear blue, healthy green vegetation will appear as a bright green, urban areas in various shades of magenta, snow covered areas in cyan.
Satellite/Sensor:
Landsat 8 Operational Land Imager (OLI)
Landsat 9 Operational Land Imager-2 (OLI-2)
Resolution:
30 meters
Credits:
NASA/MSFC, USGS
Service URL:
WMS Endpoint:
Single Fused Map Cache: false
Extent:
XMin: 32.20764529000007
YMin: 33.49596356220252
XMax: 43.01087472834985
YMax: 39.983237218000056
Spatial Reference: 4326
(4326)
LatestVCSWkid(0)
Initial Extent:
XMin: 32.20764529000007
YMin: 33.49596356220252
XMax: 43.01087472834985
YMax: 39.983237218000056
Spatial Reference: 4326
(4326)
LatestVCSWkid(0)
Full Extent:
XMin: 32.20764529000007
YMin: 33.49596356220252
XMax: 43.01087472834985
YMax: 39.983237218000056
Spatial Reference: 4326
(4326)
LatestVCSWkid(0)
Pixel Size X: 2.6949458523585636E-4
Pixel Size Y: 2.6949458523585647E-4
Band Count: 3
Pixel Type: U8
RasterFunction Infos: {"rasterFunctionInfos": [{
"help": "",
"name": "None",
"description": ""
}]}
Mensuration Capabilities: None
Inspection Capabilities:
Has Histograms: true
Has Colormap: false
Has Multi Dimensions : false
Rendering Rule:
Min Scale: 0
Max Scale: 0
Copyright Text: NASA/MSFC, USGS
Service Data Type: esriImageServiceDataTypeRGB
Min Values: 0, 0, 0
Max Values: 255, 255, 255
Mean Values: 107.47727441329462, 118.03961213343767, 105.21987917274087
Standard Deviation Values: 85.931845784708969, 93.39940103899194, 89.194259762612248
Object ID Field: objectid
Fields:
-
objectid
(
alias: OBJECTID
, type: esriFieldTypeOID
)
-
name
(
length: 200
, alias: Name
, type: esriFieldTypeString
)
-
minps
(
alias: MinPS
, type: esriFieldTypeDouble
)
-
maxps
(
alias: MaxPS
, type: esriFieldTypeDouble
)
-
lowps
(
alias: LowPS
, type: esriFieldTypeDouble
)
-
highps
(
alias: HighPS
, type: esriFieldTypeDouble
)
-
category
(
alias: Category
, type: esriFieldTypeInteger
, Coded Values:
[0: Unknown]
, [1: Primary]
, [2: Overview]
, ...6 more...
)
-
tag
(
length: 100
, alias: Tag
, type: esriFieldTypeString
)
-
groupname
(
length: 100
, alias: GroupName
, type: esriFieldTypeString
)
-
productname
(
length: 100
, alias: ProductName
, type: esriFieldTypeString
)
-
centerx
(
alias: CenterX
, type: esriFieldTypeDouble
)
-
centery
(
alias: CenterY
, type: esriFieldTypeDouble
)
-
zorder
(
alias: ZOrder
, type: esriFieldTypeInteger
)
-
date
(
alias: Date
, type: esriFieldTypeDateOnly
)
-
shape
(
alias: Shape
, type: esriFieldTypeGeometry
)
Default Mosaic Method: Northwest
Allowed Mosaic Methods: NorthWest,Center,LockRaster,ByAttribute,Nadir,Viewpoint,Seamline,None
SortField:
SortValue: N/A
Mosaic Operator: First
Default Compression Quality: 75
Default Resampling Method: Bilinear
Max Record Count: 1000
Max Image Height: 4100
Max Image Width: 15000
Max Download Image Count: 20
Max Mosaic Image Count: 20
Allow Raster Function: true
Allow Copy: true
Allow Analysis: true
Allow Compute TiePoints: false
Supports Statistics: true
Supports Advanced Queries: true
Use StandardizedQueries: true
Raster Type Infos:
Name: Raster Dataset
Description: Supports all ArcGIS Raster Datasets
Help:
Has Raster Attribute Table: false
Edit Fields Info: N/A
Ownership Based AccessControl For Rasters: N/A
Child Resources:
Info
Histograms
Statistics
Key Properties
Legend
Raster Function Infos
Supported Operations:
Export Image
Query
Identify
Compute Histograms
Compute Statistics Histograms
Get Samples
Compute Class Statistics
Query GPS Info
Find Images
Image to Map
Map to Image
Measure from Image
Image to Map Multiray
Query Boundary
Compute Pixel Location
Compute Angles
Validate
Project