View In:
ArcGIS JavaScript
ArcGIS Enterprise Map Viewer
ArcGIS Earth
Service Description: Date of Images:
5/5/2024
Date of Next Image:
N/A
Summary:
Scientists at NASA's Marshall Space Flight Center created these water extents on May 5, 2024 using PlanetScope imagery. These images can be used to see where open water is visible at the time of the satellite overpass. This product shows all water detected and differentiates between normal water areas and some flooded areas. This product was classified using WorldCover.
It's important to note that all flooded areas may not be captured due to the sensors limitations of not being able to "see" through vegetation and buildings. To determine where additional flooding may have occurred, combine this layer with other data sets.
Suggested Use:
This product shows water that is detected by the sensor with different colors indicating different land cover/land use classifications from WorldCover that appear to have water and are potentially flooded.
Blue (1): Known Water
Red (2): Flooded Developed
Green (3): Flooded Vegetation
Orange (4): Flooded Cropland/Grassland
Gray (5): Clouds/Cloud Shadow
(0): No Data
Satellite/Sensor:
PlanetScope
Resolution:
3 meters
Credits:
NASA Disasters Program, Includes copyrighted material of Planet Labs PBC. All rights reserved.
Service URL:
WMS Endpoint:
Name: DISASTERS_202405_FLOOD_TX/2408_planet_water
Description: Date of Images:
5/5/2024
Date of Next Image:
N/A
Summary:
Scientists at NASA's Marshall Space Flight Center created these water extents on May 5, 2024 using PlanetScope imagery. These images can be used to see where open water is visible at the time of the satellite overpass. This product shows all water detected and differentiates between normal water areas and some flooded areas. This product was classified using WorldCover.
It's important to note that all flooded areas may not be captured due to the sensors limitations of not being able to "see" through vegetation and buildings. To determine where additional flooding may have occurred, combine this layer with other data sets.
Suggested Use:
This product shows water that is detected by the sensor with different colors indicating different land cover/land use classifications from WorldCover that appear to have water and are potentially flooded.
Blue (1): Known Water
Red (2): Flooded Developed
Green (3): Flooded Vegetation
Orange (4): Flooded Cropland/Grassland
Gray (5): Clouds/Cloud Shadow
(0): No Data
Satellite/Sensor:
PlanetScope
Resolution:
3 meters
Credits:
NASA Disasters Program, Includes copyrighted material of Planet Labs PBC. All rights reserved.
Service URL:
WMS Endpoint:
Single Fused Map Cache: false
Extent:
XMin: -95.81661407499996
YMin: 29.726119554087877
XMax: -94.61830640174873
YMax: 31.071167029000037
Spatial Reference: 4326
(4326)
LatestVCSWkid(0)
Initial Extent:
XMin: -95.81661407499996
YMin: 29.726119554087877
XMax: -94.61830640174873
YMax: 31.071167029000037
Spatial Reference: 4326
(4326)
LatestVCSWkid(0)
Full Extent:
XMin: -95.81661407499996
YMin: 29.726119554087877
XMax: -94.61830640174873
YMax: 31.071167029000037
Spatial Reference: 4326
(4326)
LatestVCSWkid(0)
Pixel Size X: 2.694945852358565E-5
Pixel Size Y: 2.6949458523585663E-5
Band Count: 1
Pixel Type: U8
RasterFunction Infos: {"rasterFunctionInfos": [{
"help": "",
"name": "None",
"description": ""
}]}
Mensuration Capabilities: Basic
Inspection Capabilities:
Has Histograms: false
Has Colormap: false
Has Multi Dimensions : false
Rendering Rule:
Min Scale: 0
Max Scale: 0
Copyright Text: NASA Disasters Program, Includes copyrighted material of Planet Labs PBC. All rights reserved.
Service Data Type: esriImageServiceDataTypeGeneric
Min Values: N/A
Max Values: N/A
Mean Values: N/A
Standard Deviation Values: N/A
Object ID Field: objectid
Fields:
-
objectid
(
alias: OBJECTID
, type: esriFieldTypeOID
)
-
name
(
length: 200
, alias: Name
, type: esriFieldTypeString
)
-
minps
(
alias: MinPS
, type: esriFieldTypeDouble
)
-
maxps
(
alias: MaxPS
, type: esriFieldTypeDouble
)
-
lowps
(
alias: LowPS
, type: esriFieldTypeDouble
)
-
highps
(
alias: HighPS
, type: esriFieldTypeDouble
)
-
category
(
alias: Category
, type: esriFieldTypeInteger
, Coded Values:
[0: Unknown]
, [1: Primary]
, [2: Overview]
, ...6 more...
)
-
tag
(
length: 100
, alias: Tag
, type: esriFieldTypeString
)
-
groupname
(
length: 100
, alias: GroupName
, type: esriFieldTypeString
)
-
productname
(
length: 100
, alias: ProductName
, type: esriFieldTypeString
)
-
centerx
(
alias: CenterX
, type: esriFieldTypeDouble
)
-
centery
(
alias: CenterY
, type: esriFieldTypeDouble
)
-
zorder
(
alias: ZOrder
, type: esriFieldTypeInteger
)
-
date
(
alias: Date
, type: esriFieldTypeDateOnly
)
-
shape
(
alias: Shape
, type: esriFieldTypeGeometry
)
Default Mosaic Method: Northwest
Allowed Mosaic Methods: NorthWest,Center,LockRaster,ByAttribute,Nadir,Viewpoint,Seamline,None
SortField:
SortValue: N/A
Mosaic Operator: First
Default Compression Quality: 75
Default Resampling Method: Bilinear
Max Record Count: 1000
Max Image Height: 4100
Max Image Width: 15000
Max Download Image Count: 20
Max Mosaic Image Count: 20
Allow Raster Function: true
Allow Copy: true
Allow Analysis: true
Allow Compute TiePoints: false
Supports Statistics: true
Supports Advanced Queries: true
Use StandardizedQueries: true
Raster Type Infos:
Name: Raster Dataset
Description: Supports all ArcGIS Raster Datasets
Help:
Has Raster Attribute Table: false
Edit Fields Info: N/A
Ownership Based AccessControl For Rasters: N/A
Child Resources:
Info
Statistics
Key Properties
Legend
Raster Function Infos
Supported Operations:
Export Image
Query
Identify
Measure
Compute Histograms
Compute Statistics Histograms
Get Samples
Compute Class Statistics
Query GPS Info
Find Images
Image to Map
Map to Image
Measure from Image
Image to Map Multiray
Query Boundary
Compute Pixel Location
Compute Angles
Validate
Project