View In:
ArcGIS JavaScript
ArcGIS Enterprise Map Viewer
ArcGIS Earth
Service Description: The visible-wavelength true color RGB digital camera images were taken by astronauts aboard the International Space Station showing areas affected by the severe storms in April 2025 in Arkansas and Mississippi.
Date of Images:
April 15, 2025
Suggested Use:
This image provides regional context, and may be useful for visualization of the ongoing event. Higher spatial resolution images may be suitable for spatial analysis to support decision making or research applications.
Focal Length:
78mm: 1001007, 1001013 & 1001016
170mm: 1001022, 1001025 & 1001028
380mm: 1001034
500mm: 1001037 - 1001079
Additional Information about the astronaut photography from the ISS.
Credits:
International Space Station Program, NASA Johnson Space Center Earth Science and Remote Sensing Unit, ARES Division, Exploration Architecture, Integration & Science Directorate
Esri REST Endpoint:
WMS Endpoint:
Data Download:
Full datasets are available for download at the Gateway to Astronaut Photography of Earth.
Download for this specific data can be found at: https://eol.jsc.nasa.gov/WebShare/WebShare.pl?folder=NASADisastersProgram%2FNDP_TornadoesSouthernUS_15APRIL2025
Name: DISASTERS_202504_SEVEREWX_SOUTHEASTUS/2505_iss
Description: The visible-wavelength true color RGB digital camera images were taken by astronauts aboard the International Space Station showing areas affected by the severe storms in April 2025 in Arkansas and Mississippi.
Date of Images:
April 15, 2025
Suggested Use:
This image provides regional context, and may be useful for visualization of the ongoing event. Higher spatial resolution images may be suitable for spatial analysis to support decision making or research applications.
Focal Length:
78mm: 1001007, 1001013 & 1001016
170mm: 1001022, 1001025 & 1001028
380mm: 1001034
500mm: 1001037 - 1001079
Additional Information about the astronaut photography from the ISS.
Credits:
International Space Station Program, NASA Johnson Space Center Earth Science and Remote Sensing Unit, ARES Division, Exploration Architecture, Integration & Science Directorate
Esri REST Endpoint:
WMS Endpoint:
Data Download:
Full datasets are available for download at the Gateway to Astronaut Photography of Earth.
Download for this specific data can be found at: https://eol.jsc.nasa.gov/WebShare/WebShare.pl?folder=NASADisastersProgram%2FNDP_TornadoesSouthernUS_15APRIL2025
Single Fused Map Cache: false
Extent:
XMin: -92.95919946090665
YMin: 33.465188294840786
XMax: -88.23994422922316
YMax: 37.177526946765795
Spatial Reference: 4326
(4326)
LatestVCSWkid(0)
Initial Extent:
XMin: -92.95919946090665
YMin: 33.465188294840786
XMax: -88.23994422922316
YMax: 37.177526946765795
Spatial Reference: 4326
(4326)
LatestVCSWkid(0)
Full Extent:
XMin: -92.95919946090665
YMin: 33.465188294840786
XMax: -88.23994422922316
YMax: 37.177526946765795
Spatial Reference: 4326
(4326)
LatestVCSWkid(0)
Pixel Size X: 4.801700428032814E-5
Pixel Size Y: 4.801700428032813E-5
Band Count: 3
Pixel Type: U8
RasterFunction Infos: {"rasterFunctionInfos": [{
"help": "",
"name": "None",
"description": ""
}]}
Mensuration Capabilities: Basic
Inspection Capabilities:
Has Histograms: false
Has Colormap: false
Has Multi Dimensions : false
Rendering Rule:
Min Scale: 0
Max Scale: 0
Copyright Text: International Space Station Program, NASA Johnson Space Center Earth Science and Remote Sensing Unit, ARES Division, Exploration Architecture, Integration & Science Directorate
Service Data Type: esriImageServiceDataTypeRGB
Min Values: N/A
Max Values: N/A
Mean Values: N/A
Standard Deviation Values: N/A
Object ID Field: objectid
Fields:
-
objectid
(
alias: OBJECTID
, type: esriFieldTypeOID
)
-
name
(
length: 200
, alias: Name
, type: esriFieldTypeString
)
-
minps
(
alias: MinPS
, type: esriFieldTypeDouble
)
-
maxps
(
alias: MaxPS
, type: esriFieldTypeDouble
)
-
lowps
(
alias: LowPS
, type: esriFieldTypeDouble
)
-
highps
(
alias: HighPS
, type: esriFieldTypeDouble
)
-
category
(
alias: Category
, type: esriFieldTypeInteger
, Coded Values:
[0: Unknown]
, [1: Primary]
, [2: Overview]
, ...6 more...
)
-
tag
(
length: 100
, alias: Tag
, type: esriFieldTypeString
)
-
groupname
(
length: 100
, alias: GroupName
, type: esriFieldTypeString
)
-
productname
(
length: 100
, alias: ProductName
, type: esriFieldTypeString
)
-
centerx
(
alias: CenterX
, type: esriFieldTypeDouble
)
-
centery
(
alias: CenterY
, type: esriFieldTypeDouble
)
-
zorder
(
alias: ZOrder
, type: esriFieldTypeInteger
)
-
date
(
alias: Date
, type: esriFieldTypeDateOnly
)
-
shape
(
alias: Shape
, type: esriFieldTypeGeometry
)
Default Mosaic Method: Northwest
Allowed Mosaic Methods: NorthWest,Center,LockRaster,ByAttribute,Nadir,Viewpoint,Seamline,None
SortField:
SortValue: N/A
Mosaic Operator: First
Default Compression Quality: 75
Default Resampling Method: Bilinear
Max Record Count: 1000
Max Image Height: 4100
Max Image Width: 15000
Max Download Image Count: 20
Max Mosaic Image Count: 20
Allow Raster Function: true
Allow Copy: true
Allow Analysis: true
Allow Compute TiePoints: false
Supports Statistics: true
Supports Advanced Queries: true
Use StandardizedQueries: true
Raster Type Infos:
Name: Raster Dataset
Description: Supports all ArcGIS Raster Datasets
Help:
Has Raster Attribute Table: false
Edit Fields Info: N/A
Ownership Based AccessControl For Rasters: N/A
Child Resources:
Info
Statistics
Key Properties
Legend
Raster Function Infos
Supported Operations:
Export Image
Query
Identify
Measure
Compute Histograms
Compute Statistics Histograms
Get Samples
Compute Class Statistics
Query GPS Info
Find Images
Image to Map
Map to Image
Measure from Image
Image to Map Multiray
Query Boundary
Compute Pixel Location
Compute Angles
Validate
Project