View In:
ArcGIS JavaScript
ArcGIS Enterprise Map Viewer
ArcGIS Earth
Service Description: Date of Images:
July 8, 2025, July 10, 2025
Date of Next Image:
None planned
Suggested Use:
This image provides regional context, and may be useful for visualization of the ongoing event. Higher spatial resolution images may be suitable for spatial analysis to support decision making or research applications.
More information on the aircraft and program can be found here:
https://www.nasa.gov/specials/jsc-aircraft-ops/wb-57.html#top
Sensor:
HD resolution, 1280x720. Focal length was 950mm.
Photos were collected in batch orbits at 25,000'.
Resolution:
Up to 3in (7.6cm)
Credits:
NASA Johnson Space Center, Flight Operations Directorate, Aircraft Operations Division, WB-57 Program
Esri REST Endpoint:
See URL to the right
Data Download:
https://nasagov.app.box.com/s/km2xgabrquxnx45kl8l2jv00pay4bjn9/folder/330348891753
Name: DISASTERS_202507_FLOOD_TX/202507_wb57_subset
Description: Date of Images:
July 8, 2025, July 10, 2025
Date of Next Image:
None planned
Suggested Use:
This image provides regional context, and may be useful for visualization of the ongoing event. Higher spatial resolution images may be suitable for spatial analysis to support decision making or research applications.
More information on the aircraft and program can be found here:
https://www.nasa.gov/specials/jsc-aircraft-ops/wb-57.html#top
Sensor:
HD resolution, 1280x720. Focal length was 950mm.
Photos were collected in batch orbits at 25,000'.
Resolution:
Up to 3in (7.6cm)
Credits:
NASA Johnson Space Center, Flight Operations Directorate, Aircraft Operations Division, WB-57 Program
Esri REST Endpoint:
See URL to the right
Data Download:
https://nasagov.app.box.com/s/km2xgabrquxnx45kl8l2jv00pay4bjn9/folder/330348891753
Single Fused Map Cache: false
Extent:
XMin: -1.10680466266E7
YMin: 3501866.440548868
XMax: -1.0890314555729445E7
YMax: 3585709.845899999
Spatial Reference: 102100
(3857)
LatestVCSWkid(0)
Initial Extent:
XMin: -1.10680466266E7
YMin: 3501866.440548868
XMax: -1.0890314555729445E7
YMax: 3585709.845899999
Spatial Reference: 102100
(3857)
LatestVCSWkid(0)
Full Extent:
XMin: -1.10680466266E7
YMin: 3501866.440548868
XMax: -1.0890314555729445E7
YMax: 3585709.845899999
Spatial Reference: 102100
(3857)
LatestVCSWkid(0)
Pixel Size X: 0.06509581160802108
Pixel Size Y: 0.06509581160802114
Band Count: 3
Pixel Type: U8
RasterFunction Infos: {"rasterFunctionInfos": [{
"help": "",
"name": "None",
"description": ""
}]}
Mensuration Capabilities: Basic
Inspection Capabilities:
Has Histograms: false
Has Colormap: false
Has Multi Dimensions : false
Rendering Rule:
Min Scale: 0
Max Scale: 0
Copyright Text: NASA Johnson Space Center, Flight Operations Directorate, Aircraft Operations Division, WB-57 Program
Service Data Type: esriImageServiceDataTypeRGB
Min Values: N/A
Max Values: N/A
Mean Values: N/A
Standard Deviation Values: N/A
Object ID Field: objectid
Fields:
-
objectid
(
alias: OBJECTID
, type: esriFieldTypeOID
)
-
name
(
length: 200
, alias: Name
, type: esriFieldTypeString
)
-
minps
(
alias: MinPS
, type: esriFieldTypeDouble
)
-
maxps
(
alias: MaxPS
, type: esriFieldTypeDouble
)
-
lowps
(
alias: LowPS
, type: esriFieldTypeDouble
)
-
highps
(
alias: HighPS
, type: esriFieldTypeDouble
)
-
category
(
alias: Category
, type: esriFieldTypeInteger
, Coded Values:
[0: Unknown]
, [1: Primary]
, [2: Overview]
, ...6 more...
)
-
tag
(
length: 100
, alias: Tag
, type: esriFieldTypeString
)
-
groupname
(
length: 100
, alias: GroupName
, type: esriFieldTypeString
)
-
productname
(
length: 100
, alias: ProductName
, type: esriFieldTypeString
)
-
centerx
(
alias: CenterX
, type: esriFieldTypeDouble
)
-
centery
(
alias: CenterY
, type: esriFieldTypeDouble
)
-
zorder
(
alias: ZOrder
, type: esriFieldTypeInteger
)
-
date
(
alias: Date
, type: esriFieldTypeDateOnly
)
-
shape
(
alias: Shape
, type: esriFieldTypeGeometry
)
Default Mosaic Method: Northwest
Allowed Mosaic Methods: NorthWest,Center,LockRaster,ByAttribute,Nadir,Viewpoint,Seamline,None
SortField:
SortValue: N/A
Mosaic Operator: First
Default Compression Quality: 75
Default Resampling Method: Bilinear
Max Record Count: 1000
Max Image Height: 4100
Max Image Width: 15000
Max Download Image Count: 20
Max Mosaic Image Count: 20
Allow Raster Function: true
Allow Copy: true
Allow Analysis: true
Allow Compute TiePoints: false
Supports Statistics: true
Supports Advanced Queries: true
Use StandardizedQueries: true
Raster Type Infos:
Name: Raster Dataset
Description: Supports all ArcGIS Raster Datasets
Help:
Has Raster Attribute Table: false
Edit Fields Info: N/A
Ownership Based AccessControl For Rasters: N/A
Child Resources:
Info
Statistics
Key Properties
Legend
Raster Function Infos
Supported Operations:
Export Image
Query
Identify
Measure
Compute Histograms
Compute Statistics Histograms
Get Samples
Compute Class Statistics
Query GPS Info
Find Images
Image to Map
Map to Image
Measure from Image
Image to Map Multiray
Query Boundary
Compute Pixel Location
Compute Angles
Validate
Project