View In:
ArcGIS JavaScript
ArcGIS Enterprise Map Viewer
ArcGIS Earth
Service Description: Summary:
The images are color infrared “quick looks” generated from the NASA AVIRIS-3 (Airborne Visible/Infrared Imaging Spectrometer -3). They are generated from un-atmospherically-corrected, at-sensor radiance data. Specifically: AVIRIS 3 L1B calibrated spectral radiance (units: uW nm-1 cm-2 sr-1). The images have been orthorectified.
Given that these images were derived from solely calibrated, at-sensor radiance data, they have not undergone atmospheric correction and do not quantitatively represent surface reflectance.
Suggested Usage:
Despite the rawer form of this quick-look product, it is still useful for burned area mapping.
Sensor:
Airborne Visible/Infrared Imaging Spectrometer 3rd-Generation (AVIRIS-3)
The AVIRIS-3 Color Infrared wavelengths are 2338nm, 1209nm, 1000nm (R, G, B).
Caveats and Limitations:
These results are intended to support rapid emergency response. All information is provisional for use under emergency response guidelines. These data are provided with absolutely no warranty of any kind. Use at your own risk.
Data is dark-subtracted DN. No other calibration steps (e.g., bad pixel replacement, flatfield, radiometric coefficients) have been applied.
Values are not in physical units.
Orthorectified with a 30 m DEM. Geolocation error is larger over rugged terrain due to the coarse DEM.
Credits:
Rob Green (JPL), Phil Brodrick (JPL), David Thompson (JPL), John Chapman (JPL), Michael Eastwood (JPL), and Adam Chlus (JPL).
Esri REST Endpoint:
See URL to the right.
WMS Endpoint:
https://gis.earthdata.nasa.gov/portal/services/DISASTERS_202607_FIRE_OR/202618_aviris/ImageServer/WMSServer
Name: DISASTERS_202607_FIRE_OR/202618_aviris_CIR
Description: Summary:
The images are color infrared “quick looks” generated from the NASA AVIRIS-3 (Airborne Visible/Infrared Imaging Spectrometer -3). They are generated from un-atmospherically-corrected, at-sensor radiance data. Specifically: AVIRIS 3 L1B calibrated spectral radiance (units: uW nm-1 cm-2 sr-1). The images have been orthorectified.
Given that these images were derived from solely calibrated, at-sensor radiance data, they have not undergone atmospheric correction and do not quantitatively represent surface reflectance.
Suggested Usage:
Despite the rawer form of this quick-look product, it is still useful for burned area mapping.
Sensor:
Airborne Visible/Infrared Imaging Spectrometer 3rd-Generation (AVIRIS-3)
The AVIRIS-3 Color Infrared wavelengths are 2338nm, 1209nm, 1000nm (R, G, B).
Caveats and Limitations:
These results are intended to support rapid emergency response. All information is provisional for use under emergency response guidelines. These data are provided with absolutely no warranty of any kind. Use at your own risk.
Data is dark-subtracted DN. No other calibration steps (e.g., bad pixel replacement, flatfield, radiometric coefficients) have been applied.
Values are not in physical units.
Orthorectified with a 30 m DEM. Geolocation error is larger over rugged terrain due to the coarse DEM.
Credits:
Rob Green (JPL), Phil Brodrick (JPL), David Thompson (JPL), John Chapman (JPL), Michael Eastwood (JPL), and Adam Chlus (JPL).
Esri REST Endpoint:
See URL to the right.
WMS Endpoint:
https://gis.earthdata.nasa.gov/portal/services/DISASTERS_202607_FIRE_OR/202618_aviris/ImageServer/WMSServer
Single Fused Map Cache: false
Extent:
XMin: -1.35115628693E7
YMin: 5503842.043000091
XMax: -1.3010807469300061E7
YMax: 6251605.743000001
Spatial Reference: 102100
(3857)
LatestVCSWkid(0)
Initial Extent:
XMin: -1.35115628693E7
YMin: 5503842.043000091
XMax: -1.3010807469300061E7
YMax: 6251605.743000001
Spatial Reference: 102100
(3857)
LatestVCSWkid(0)
Full Extent:
XMin: -1.35115628693E7
YMin: 5503842.043000091
XMax: -1.3010807469300061E7
YMax: 6251605.743000001
Spatial Reference: 102100
(3857)
LatestVCSWkid(0)
Pixel Size X: 1.6999999999997926
Pixel Size Y: 1.699999999999795
Band Count: 3
Pixel Type: U16
RasterFunction Infos: {"rasterFunctionInfos": [
{
"help": "",
"name": "None",
"description": "Make a Raster or Raster Dataset into a Function Raster Dataset."
},
{
"help": "",
"name": "None",
"description": "Make a Raster or Raster Dataset into a Function Raster Dataset."
}
]}
Mensuration Capabilities:
Inspection Capabilities:
Has Histograms: true
Has Colormap: false
Has Multi Dimensions : false
Rendering Rule:
Min Scale: 0
Max Scale: 0
Copyright Text: Rob Green (JPL), Phil Brodrick (JPL), David Thompson (JPL), John Chapman (JPL), Adam Chlus (JPL), Michael Eastwood (JPL)
Service Data Type: esriImageServiceDataTypeGeneric
Min Values: 4, 59, 156
Max Values: 8116, 13096, 21599
Mean Values: 1204.4778435239964, 2422.9737015121473, 4300.6402366863858
Standard Deviation Values: 856.93408726730593, 1433.3977802096251, 2302.4089308279645
Object ID Field: objectid
Fields:
-
objectid
(
alias: OBJECTID
, type: esriFieldTypeOID
)
-
name
(
length: 200
, alias: Name
, type: esriFieldTypeString
)
-
minps
(
alias: MinPS
, type: esriFieldTypeDouble
)
-
maxps
(
alias: MaxPS
, type: esriFieldTypeDouble
)
-
lowps
(
alias: LowPS
, type: esriFieldTypeDouble
)
-
highps
(
alias: HighPS
, type: esriFieldTypeDouble
)
-
category
(
alias: Category
, type: esriFieldTypeInteger
, Coded Values:
[0: Unknown]
, [1: Primary]
, [2: Overview]
, ...6 more...
)
-
tag
(
length: 100
, alias: Tag
, type: esriFieldTypeString
)
-
groupname
(
length: 100
, alias: GroupName
, type: esriFieldTypeString
)
-
productname
(
length: 100
, alias: ProductName
, type: esriFieldTypeString
)
-
centerx
(
alias: CenterX
, type: esriFieldTypeDouble
)
-
centery
(
alias: CenterY
, type: esriFieldTypeDouble
)
-
zorder
(
alias: ZOrder
, type: esriFieldTypeInteger
)
-
shape
(
alias: Shape
, type: esriFieldTypeGeometry
)
Default Mosaic Method: Northwest
Allowed Mosaic Methods: NorthWest,Center,LockRaster,ByAttribute,Nadir,Viewpoint,Seamline,None
SortField:
SortValue: N/A
Mosaic Operator: First
Default Compression Quality: 75
Default Resampling Method: Bilinear
Max Record Count: 1000
Max Image Height: 4100
Max Image Width: 15000
Max Download Image Count: 20
Max Mosaic Image Count: 20
Allow Raster Function: true
Allow Copy: true
Allow Analysis: true
Allow Compute TiePoints: false
Supports Statistics: true
Supports Advanced Queries: true
Use StandardizedQueries: true
Raster Type Infos:
Name: Raster Dataset
Description: Supports all ArcGIS Raster Datasets
Help:
Has Raster Attribute Table: false
Edit Fields Info: N/A
Ownership Based AccessControl For Rasters: N/A
Child Resources:
Info
Histograms
Statistics
Key Properties
Legend
Raster Function Infos
Supported Operations:
Export Image
Query
Identify
Compute Histograms
Compute Statistics Histograms
Get Samples
Compute Class Statistics
Query GPS Info
Find Images
Image to Map
Map to Image
Measure from Image
Image to Map Multiray
Query Boundary
Compute Pixel Location
Compute Angles
Validate
Project