View In:
ArcGIS JavaScript
ArcGIS Enterprise Map Viewer
ArcGIS Earth
Service Description: Fire Retardant Detection
This is an EXPERIMENTAL, UNVALIDATED data product under active development. It is provided as-is. No guarantee is made as to the accuracy or completeness of the detections. Retardant may be missed entirely, and spectrally similar surfaces may produce elevated scores.
Product: retardant detection score, unitless.
Higher values indicate greater likelihood of retardant presence.
Values are relative, not physical units.
Files are mosaics, with all acquisition chunks covering a given flightbox combined into a single mosaicked GeoTiff.
Orthorectified with a 30 m DEM. Geolocation error is larger over rugged terrain due to the coarse DEM. Resolution varies from scene to scene. Files are provided as 32-bit floating point values, as Cloud Optimized GeoTiffs, in WGS 84 / Pseudo-Mercator projection.
Caveats and Limitations:
These results are intended to support rapid emergency response. All information is provisional for use under emergency response guidelines. These data are provided with absolutely no warranty of any kind. Use at your own risk.
These are PRELIMINARY data products generated for rapid response.
POCs: Adam Chlus (adam.chlus@jpl.nasa.gov) Philip Brodrick (philip.brodrick@jpl.nasa.gov)
Name: DISASTERS_202607_FIRE_OR/202618_aviris_fireRetardant
Description: Fire Retardant Detection
This is an EXPERIMENTAL, UNVALIDATED data product under active development. It is provided as-is. No guarantee is made as to the accuracy or completeness of the detections. Retardant may be missed entirely, and spectrally similar surfaces may produce elevated scores.
Product: retardant detection score, unitless.
Higher values indicate greater likelihood of retardant presence.
Values are relative, not physical units.
Files are mosaics, with all acquisition chunks covering a given flightbox combined into a single mosaicked GeoTiff.
Orthorectified with a 30 m DEM. Geolocation error is larger over rugged terrain due to the coarse DEM. Resolution varies from scene to scene. Files are provided as 32-bit floating point values, as Cloud Optimized GeoTiffs, in WGS 84 / Pseudo-Mercator projection.
Caveats and Limitations:
These results are intended to support rapid emergency response. All information is provisional for use under emergency response guidelines. These data are provided with absolutely no warranty of any kind. Use at your own risk.
These are PRELIMINARY data products generated for rapid response.
POCs: Adam Chlus (adam.chlus@jpl.nasa.gov) Philip Brodrick (philip.brodrick@jpl.nasa.gov)
Single Fused Map Cache: false
Extent:
XMin: -121.77227208399995
YMin: 42.29458607463305
XMax: -120.33965561980939
YMax: 45.45894886800005
Spatial Reference: 4326
(4326)
LatestVCSWkid(0)
Initial Extent:
XMin: -121.77227208399995
YMin: 42.29458607463305
XMax: -120.33965561980939
YMax: 45.45894886800005
Spatial Reference: 4326
(4326)
LatestVCSWkid(0)
Full Extent:
XMin: -121.77227208399995
YMin: 42.29458607463305
XMax: -120.33965561980939
YMax: 45.45894886800005
Spatial Reference: 4326
(4326)
LatestVCSWkid(0)
Pixel Size X: 2.6948636485215837E-5
Pixel Size Y: 2.6948636485215695E-5
Band Count: 1
Pixel Type: F32
RasterFunction Infos: {"rasterFunctionInfos": [
{
"help": "",
"name": "AVIRIS_fireRetardant",
"description": "AVIRIS_fireRetardant"
},
{
"help": "",
"name": "AVIRIS_fireRetardant",
"description": "AVIRIS_fireRetardant"
},
{
"help": "",
"name": "None",
"description": ""
}
]}
Mensuration Capabilities: None
Inspection Capabilities:
Has Histograms: true
Has Colormap: false
Has Multi Dimensions : false
Rendering Rule:
Min Scale: 0
Max Scale: 0
Copyright Text: Rob Green (JPL), Phil Brodrick (JPL), David Thompson (JPL), John Chapman (JPL), Michael Eastwood (JPL), and Adam Chlus (JPL).
Service Data Type: esriImageServiceDataTypeGeneric
Min Values: 1494.06201171875
Max Values: 5956.8681640625
Mean Values: 1742.030803642597
Standard Deviation Values: 538.00970804621363
Object ID Field: objectid
Fields:
-
objectid
(
alias: OBJECTID
, type: esriFieldTypeOID
)
-
name
(
length: 200
, alias: Name
, type: esriFieldTypeString
)
-
minps
(
alias: MinPS
, type: esriFieldTypeDouble
)
-
maxps
(
alias: MaxPS
, type: esriFieldTypeDouble
)
-
lowps
(
alias: LowPS
, type: esriFieldTypeDouble
)
-
highps
(
alias: HighPS
, type: esriFieldTypeDouble
)
-
category
(
alias: Category
, type: esriFieldTypeInteger
, Coded Values:
[0: Unknown]
, [1: Primary]
, [2: Overview]
, ...6 more...
)
-
tag
(
length: 100
, alias: Tag
, type: esriFieldTypeString
)
-
groupname
(
length: 100
, alias: GroupName
, type: esriFieldTypeString
)
-
productname
(
length: 100
, alias: ProductName
, type: esriFieldTypeString
)
-
centerx
(
alias: CenterX
, type: esriFieldTypeDouble
)
-
centery
(
alias: CenterY
, type: esriFieldTypeDouble
)
-
zorder
(
alias: ZOrder
, type: esriFieldTypeInteger
)
-
date
(
alias: Date
, type: esriFieldTypeDateOnly
)
-
fire
(
length: 255
, alias: Fire
, type: esriFieldTypeString
)
-
shape
(
alias: Shape
, type: esriFieldTypeGeometry
)
Default Mosaic Method: Northwest
Allowed Mosaic Methods: NorthWest,Center,LockRaster,ByAttribute,Nadir,Viewpoint,Seamline,None
SortField:
SortValue: N/A
Mosaic Operator: First
Default Compression Quality: 75
Default Resampling Method: Bilinear
Max Record Count: 1000
Max Image Height: 4100
Max Image Width: 15000
Max Download Image Count: 20
Max Mosaic Image Count: 20
Allow Raster Function: true
Allow Copy: true
Allow Analysis: true
Allow Compute TiePoints: false
Supports Statistics: true
Supports Advanced Queries: true
Use StandardizedQueries: true
Raster Type Infos:
Name: Raster Dataset
Description: Supports all ArcGIS Raster Datasets
Help:
Has Raster Attribute Table: false
Edit Fields Info: N/A
Ownership Based AccessControl For Rasters: N/A
Child Resources:
Info
Histograms
Statistics
Key Properties
Legend
Raster Function Infos
Supported Operations:
Export Image
Query
Identify
Compute Histograms
Compute Statistics Histograms
Get Samples
Compute Class Statistics
Query GPS Info
Find Images
Image to Map
Map to Image
Measure from Image
Image to Map Multiray
Query Boundary
Compute Pixel Location
Compute Angles
Validate
Project