View In:
ArcGIS JavaScript
ArcGIS Enterprise Map Viewer
ArcGIS Earth
Service Description: Date of Image:
4/27/2023
Summary
ICEYE US Backscatter is derived from scaling factors provided with ICEYE Single Look Complex (SLC) and/or Ground Range Detected (GRD) products. In the SLC product all original sensor data is retained and offers full resolution in the azimuth and range directions. Data in the GRD product is oriented in the natural range-azimuth orientation and projected to the ground surface using an Earth ellipsoid mode and may be multi-looked to reduced speckle. The units for this product are decibels (dB).
Resolution:
Sub 1 meter.
Credits
NASA Disasters Program, Processing from MSFC, ICEYE US. For derived products: “Includes copyrighted material of ICEYE US. All rights reserved.” This work utilized data made available through the NASA Commercial Satellite Data Acquisition (CSDA) program.
Name: DISASTERS_EX2603_202205_FLOOD_MN/ex2603_iceye
Description: Date of Image:
4/27/2023
Summary
ICEYE US Backscatter is derived from scaling factors provided with ICEYE Single Look Complex (SLC) and/or Ground Range Detected (GRD) products. In the SLC product all original sensor data is retained and offers full resolution in the azimuth and range directions. Data in the GRD product is oriented in the natural range-azimuth orientation and projected to the ground surface using an Earth ellipsoid mode and may be multi-looked to reduced speckle. The units for this product are decibels (dB).
Resolution:
Sub 1 meter.
Credits
NASA Disasters Program, Processing from MSFC, ICEYE US. For derived products: “Includes copyrighted material of ICEYE US. All rights reserved.” This work utilized data made available through the NASA Commercial Satellite Data Acquisition (CSDA) program.
Single Fused Map Cache: false
Extent:
XMin: -1.08599094058E7
YMin: 6206988.079000004
XMax: -1.07917819058E7
YMax: 6327038.079000004
Spatial Reference: 102100
(3857)
LatestVCSWkid(0)
Initial Extent:
XMin: -1.08599094058E7
YMin: 6206988.079000004
XMax: -1.07917819058E7
YMax: 6327038.079000004
Spatial Reference: 102100
(3857)
LatestVCSWkid(0)
Full Extent:
XMin: -1.08599094058E7
YMin: 6206988.079000004
XMax: -1.07917819058E7
YMax: 6327038.079000004
Spatial Reference: 102100
(3857)
LatestVCSWkid(0)
Pixel Size X: 2.5
Pixel Size Y: 2.5
Band Count: 1
Pixel Type: F32
RasterFunction Infos: {"rasterFunctionInfos": [
{
"help": "",
"name": "iceye_sinlaku",
"description": "iceye_sinlaku"
},
{
"help": "",
"name": "None",
"description": "Make a Raster or Raster Dataset into a Function Raster Dataset."
}
]}
Mensuration Capabilities:
Inspection Capabilities:
Has Histograms: true
Has Colormap: false
Has Multi Dimensions : false
Rendering Rule:
Min Scale: 0
Max Scale: 0
Copyright Text: NASA Disasters Program, MSFC, Commercial Satellite Data Acquisition (CSDA) Program, ICEYE.
Service Data Type: esriImageServiceDataTypeGeneric
Min Values: -18.443332672119141
Max Values: 10.710412979125977
Mean Values: -4.428241731684456
Standard Deviation Values: 3.8827198125590972
Object ID Field: objectid
Fields:
-
objectid
(
alias: OBJECTID
, type: esriFieldTypeOID
)
-
name
(
length: 200
, alias: Name
, type: esriFieldTypeString
)
-
minps
(
alias: MinPS
, type: esriFieldTypeDouble
)
-
maxps
(
alias: MaxPS
, type: esriFieldTypeDouble
)
-
lowps
(
alias: LowPS
, type: esriFieldTypeDouble
)
-
highps
(
alias: HighPS
, type: esriFieldTypeDouble
)
-
category
(
alias: Category
, type: esriFieldTypeInteger
, Coded Values:
[0: Unknown]
, [1: Primary]
, [2: Overview]
, ...6 more...
)
-
tag
(
length: 100
, alias: Tag
, type: esriFieldTypeString
)
-
groupname
(
length: 100
, alias: GroupName
, type: esriFieldTypeString
)
-
productname
(
length: 100
, alias: ProductName
, type: esriFieldTypeString
)
-
centerx
(
alias: CenterX
, type: esriFieldTypeDouble
)
-
centery
(
alias: CenterY
, type: esriFieldTypeDouble
)
-
zorder
(
alias: ZOrder
, type: esriFieldTypeInteger
)
-
shape
(
alias: Shape
, type: esriFieldTypeGeometry
)
Default Mosaic Method: Northwest
Allowed Mosaic Methods: NorthWest,Center,LockRaster,ByAttribute,Nadir,Viewpoint,Seamline,None
SortField:
SortValue: N/A
Mosaic Operator: First
Default Compression Quality: 75
Default Resampling Method: Bilinear
Max Record Count: 1000
Max Image Height: 4100
Max Image Width: 15000
Max Download Image Count: 20
Max Mosaic Image Count: 20
Allow Raster Function: true
Allow Copy: true
Allow Analysis: true
Allow Compute TiePoints: false
Supports Statistics: true
Supports Advanced Queries: true
Use StandardizedQueries: true
Raster Type Infos:
Name: Raster Dataset
Description: Supports all ArcGIS Raster Datasets
Help:
Has Raster Attribute Table: false
Edit Fields Info: N/A
Ownership Based AccessControl For Rasters: N/A
Child Resources:
Info
Histograms
Statistics
Key Properties
Legend
Raster Function Infos
Supported Operations:
Export Image
Query
Identify
Measure
Compute Histograms
Compute Statistics Histograms
Get Samples
Compute Class Statistics
Query GPS Info
Find Images
Image to Map
Map to Image
Measure from Image
Image to Map Multiray
Query Boundary
Compute Pixel Location
Compute Angles
Validate
Project